Workbook
Name _____MasterList: #REF!
Name _____MasterList: #REF!
Name _____MasterList: #REF!
Name Analytics: #REF!
Name Analytics: #REF!
Name Analytics: #REF!
Name Category: '[1]Data List'!$Q$2:$Q$10
Name Category: '[1]Data List'!$Q$2:$Q$10
Name Category: '[1]Data List'!$Q$2:$Q$10
Name Category: '[1]Data List'!$Q$2:$Q$10
Name Category: #REF!
Name Data: #REF!
Name Data: #REF!
Name Data: #REF!
Name Indicators: #REF!
Name Indicators: #REF!
Name Indicators: #REF!
Name Maintenance: #REF!
Name Maintenance: #REF!
Name Maintenance: #REF!
Name Suite: #REF!
Name Suite: #REF!
Name Suite: #REF!

Sheet Dashboard
B1: MT4 DDE Live Market Data
B3: Symbol | F3: Bid | G3: Spread | I3: Ask | K3: Low | L3: Distance | O3: Rng | P3: Distance | S3: High | U3: Server Time | V3: Average
B4: USD | C4: 1 | D4: EURUSD | F4: =IFERROR(VLOOKUP(D4,'Data Feed'!$A$3:$F$30,3,FALSE),"") -> 1.11686 | G4: =AVERAGE(H4:H10) -> 0.12857143 | H4: =IFERROR(VLOOKUP(D4,'Data Feed'!$A$3:$F$30,5,FALSE),"") -> 0 | I4: =IFERROR(VLOOKUP(D4,'Data Feed'!$A$3:$F$30,4,FALSE),"") -> 1.11686 | K4: =IFERROR(VLOOKUP(D4,'Data Feed'!$A$3:$I$30,8,FALSE),"") -> 1.11152 | L4: =IFERROR(IF(ISNUMBER(SEARCH("JPY",D4)),((V4-K4)*100),((V4-K4)*10000)),"") -> 53.4 | M4: =1-L4/O4 -> 0.26446281 | N4: =IFERROR(IF(M4>50%,M4*-1,""),"") | O4: =IFERROR(IF(ISNUMBER(SEARCH("JPY",D4)),((S4-K4)*100),((S4-K4)*10000)),"") -> 72.6 | P4: =IFERROR(IF(Q4>50%,Q4,""),"") -> 0.73553719 | Q4: =1-R4/O4 -> 0.73553719 | R4: =IFERROR(IF(ISNUMBER(SEARCH("JPY",D4)),((S4-V4)*100),((S4-V4)*10000)),"") -> 19.2 | S4: =IFERROR(VLOOKUP(D4,'Data Feed'!$A$3:$I$30,9,FALSE),"") -> 1.11878 | U4: =IFERROR(VLOOKUP(D4,'Data Feed'!A:I,2,FALSE),"") -> 2020 | V4: =(F4+I4)/2 -> 1.11686 | W4: USD
C5: 2 | D5: USDCHF | F5: =IFERROR(VLOOKUP(D5,'Data Feed'!$A$3:$F$30,3,FALSE),"") -> 0.96171 | H5: =IFERROR(VLOOKUP(D5,'Data Feed'!$A$3:$F$30,5,FALSE),"") -> 0.2 | I5: =IFERROR(VLOOKUP(D5,'Data Feed'!$A$3:$F$30,4,FALSE),"") -> 0.96173 | K5: =IFERROR(VLOOKUP(D5,'Data Feed'!$A$3:$I$30,8,FALSE),"") -> 0.95731 | L5: =IFERROR(IF(ISNUMBER(SEARCH("JPY",D5)),((V5-K5)*100),((V5-K5)*10000)),"") -> 44.1 | M5: =1-L5/O5 -> 0.22222222 | N5: =IFERROR(IF(M5>50%,M5*-1,""),"") | O5: =IFERROR(IF(ISNUMBER(SEARCH("JPY",D5)),((S5-K5)*100),((S5-K5)*10000)),"") -> 56.7 | P5: =IFERROR(IF(Q5>50%,Q5,""),"") -> 0.77777778 | Q5: =1-R5/O5 -> 0.77777778 | R5: =IFERROR(IF(ISNUMBER(SEARCH("JPY",D5)),((S5-V5)*100),((S5-V5)*10000)),"") -> 12.6 | S5: =IFERROR(VLOOKUP(D5,'Data Feed'!$A$3:$I$30,9,FALSE),"") -> 0.96298 | U5: =IFERROR(VLOOKUP(D5,'Data Feed'!A:I,2,FALSE),"") -> 2020 | V5: =(F5+I5)/2 -> 0.96172
C6: 3 | D6: GBPUSD | F6: =IFERROR(VLOOKUP(D6,'Data Feed'!$A$3:$F$30,3,FALSE),"") -> 1.25656 | H6: =IFERROR(VLOOKUP(D6,'Data Feed'!$A$3:$F$30,5,FALSE),"") -> 0 | I6: =IFERROR(VLOOKUP(D6,'Data Feed'!$A$3:$F$30,4,FALSE),"") -> 1.25656 | K6: =IFERROR(VLOOKUP(D6,'Data Feed'!$A$3:$I$30,8,FALSE),"") -> 1.24785 | L6: =IFERROR(IF(ISNUMBER(SEARCH("JPY",D6)),((V6-K6)*100),((V6-K6)*10000)),"") -> 87.1 | M6: =1-L6/O6 -> 0.10849539 | N6: =IFERROR(IF(M6>50%,M6*-1,""),"") | O6: =IFERROR(IF(ISNUMBER(SEARCH("JPY",D6)),((S6-K6)*100),((S6-K6)*10000)),"") -> 97.7 | P6: =IFERROR(IF(Q6>50%,Q6,""),"") -> 0.89150461 | Q6: =1-R6/O6 -> 0.89150461 | R6: =IFERROR(IF(ISNUMBER(SEARCH("JPY",D6)),((S6-V6)*100),((S6-V6)*10000)),"") -> 10.6 | S6: =IFERROR(VLOOKUP(D6,'Data Feed'!$A$3:$I$30,9,FALSE),"") -> 1.25762 | U6: =IFERROR(VLOOKUP(D6,'Data Feed'!A:I,2,FALSE),"") -> 2020 | V6: =(F6+I6)/2 -> 1.25656
C7: 4 | D7: USDJPY | F7: =IFERROR(VLOOKUP(D7,'Data Feed'!$A$3:$F$30,3,FALSE),"") -> 107.756 | H7: =IFERROR(VLOOKUP(D7,'Data Feed'!$A$3:$F$30,5,FALSE),"") -> 0 | I7: =IFERROR(VLOOKUP(D7,'Data Feed'!$A$3:$F$30,4,FALSE),"") -> 107.756 | K7: =IFERROR(VLOOKUP(D7,'Data Feed'!$A$3:$I$30,8,FALSE),"") -> 107.514 | L7: =IFERROR(IF(ISNUMBER(SEARCH("JPY",D7)),((V7-K7)*100),((V7-K7)*10000)),"") -> 24.2 | M7: =1-L7/O7 -> 0.2484472 | N7: =IFERROR(IF(M7>50%,M7*-1,""),"") | O7: =IFERROR(IF(ISNUMBER(SEARCH("JPY",D7)),((S7-K7)*100),((S7-K7)*10000)),"") -> 32.2 | P7: =IFERROR(IF(Q7>50%,Q7,""),"") -> 0.7515528 | Q7: =1-R7/O7 -> 0.7515528 | R7: =IFERROR(IF(ISNUMBER(SEARCH("JPY",D7)),((S7-V7)*100),((S7-V7)*10000)),"") -> 8 | S7: =IFERROR(VLOOKUP(D7,'Data Feed'!$A$3:$I$30,9,FALSE),"") -> 107.836 | U7: =IFERROR(VLOOKUP(D7,'Data Feed'!A:I,2,FALSE),"") -> 2020 | V7: =(F7+I7)/2 -> 107.756
C8: 5 | D8: AUDUSD | F8: =IFERROR(VLOOKUP(D8,'Data Feed'!$A$3:$F$30,3,FALSE),"") -> 0.68541 | H8: =IFERROR(VLOOKUP(D8,'Data Feed'!$A$3:$F$30,5,FALSE),"") -> 0.2 | I8: =IFERROR(VLOOKUP(D8,'Data Feed'!$A$3:$F$30,4,FALSE),"") -> 0.68543 | K8: =IFERROR(VLOOKUP(D8,'Data Feed'!$A$3:$I$30,8,FALSE),"") -> 0.67749 | L8: =IFERROR(IF(ISNUMBER(SEARCH("JPY",D8)),((V8-K8)*100),((V8-K8)*10000)),"") -> 79.3 | M8: =1-L8/O8 -> 0.15995763 | N8: =IFERROR(IF(M8>50%,M8*-1,""),"") | O8: =IFERROR(IF(ISNUMBER(SEARCH("JPY",D8)),((S8-K8)*100),((S8-K8)*10000)),"") -> 94.4 | P8: =IFERROR(IF(Q8>50%,Q8,""),"") -> 0.84004237 | Q8: =1-R8/O8 -> 0.84004237 | R8: =IFERROR(IF(ISNUMBER(SEARCH("JPY",D8)),((S8-V8)*100),((S8-V8)*10000)),"") -> 15.1 | S8: =IFERROR(VLOOKUP(D8,'Data Feed'!$A$3:$I$30,9,FALSE),"") -> 0.68693 | U8: =IFERROR(VLOOKUP(D8,'Data Feed'!A:I,2,FALSE),"") -> 2020 | V8: =(F8+I8)/2 -> 0.68542
C9: 6 | D9: USDCAD | F9: =IFERROR(VLOOKUP(D9,'Data Feed'!$A$3:$F$30,3,FALSE),"") -> 1.35168 | H9: =IFERROR(VLOOKUP(D9,'Data Feed'!$A$3:$F$30,5,FALSE),"") -> 0.4 | I9: =IFERROR(VLOOKUP(D9,'Data Feed'!$A$3:$F$30,4,FALSE),"") -> 1.35172 | K9: =IFERROR(VLOOKUP(D9,'Data Feed'!$A$3:$I$30,8,FALSE),"") -> 1.34932 | L9: =IFERROR(IF(ISNUMBER(SEARCH("JPY",D9)),((V9-K9)*100),((V9-K9)*10000)),"") -> 23.8 | M9: =1-L9/O9 -> 0.74130435 | N9: =IFERROR(IF(M9>50%,M9*-1,""),"") -> -0.74130435 | O9: =IFERROR(IF(ISNUMBER(SEARCH("JPY",D9)),((S9-K9)*100),((S9-K9)*10000)),"") -> 92 | P9: =IFERROR(IF(Q9>50%,Q9,""),"") | Q9: =1-R9/O9 -> 0.25869565 | R9: =IFERROR(IF(ISNUMBER(SEARCH("JPY",D9)),((S9-V9)*100),((S9-V9)*10000)),"") -> 68.2 | S9: =IFERROR(VLOOKUP(D9,'Data Feed'!$A$3:$I$30,9,FALSE),"") -> 1.35852 | U9: =IFERROR(VLOOKUP(D9,'Data Feed'!A:I,2,FALSE),"") -> 2020 | V9: =(F9+I9)/2 -> 1.3517
C10: 7 | D10: NZDUSD | F10: =IFERROR(VLOOKUP(D10,'Data Feed'!$A$3:$F$30,3,FALSE),"") -> 0.63142 | H10: =IFERROR(VLOOKUP(D10,'Data Feed'!$A$3:$F$30,5,FALSE),"") -> 0.1 | I10: =IFERROR(VLOOKUP(D10,'Data Feed'!$A$3:$F$30,4,FALSE),"") -> 0.63143 | K10: =IFERROR(VLOOKUP(D10,'Data Feed'!$A$3:$I$30,8,FALSE),"") -> 0.62629 | L10: =IFERROR(IF(ISNUMBER(SEARCH("JPY",D10)),((V10-K10)*100),((V10-K10)*10000)),"") -> 51.35 | M10: =1-L10/O10 -> 0.069746377 | N10: =IFERROR(IF(M10>50%,M10*-1,""),"") | O10: =IFERROR(IF(ISNUMBER(SEARCH("JPY",D10)),((S10-K10)*100),((S10-K10)*10000)),"") -> 55.2 | P10: =IFERROR(IF(Q10>50%,Q10,""),"") -> 0.93025362 | Q10: =1-R10/O10 -> 0.93025362 | R10: =IFERROR(IF(ISNUMBER(SEARCH("JPY",D10)),((S10-V10)*100),((S10-V10)*10000)),"") -> 3.85 | S10: =IFERROR(VLOOKUP(D10,'Data Feed'!$A$3:$I$30,9,FALSE),"") -> 0.63181 | U10: =IFERROR(VLOOKUP(D10,'Data Feed'!A:I,2,FALSE),"") -> 2020 | V10: =(F10+I10)/2 -> 0.631425
B11: EUR | C11: 8 | D11: EURGBP | F11: =IFERROR(VLOOKUP(D11,'Data Feed'!$A$3:$F$30,3,FALSE),"") -> 0.88884 | G11: =AVERAGE(H11:H15) -> 0.48 | H11: =IFERROR(VLOOKUP(D11,'Data Feed'!$A$3:$F$30,5,FALSE),"") -> 0.2 | I11: =IFERROR(VLOOKUP(D11,'Data Feed'!$A$3:$F$30,4,FALSE),"") -> 0.88886 | K11: =IFERROR(VLOOKUP(D11,'Data Feed'!$A$3:$I$30,8,FALSE),"") -> 0.88666 | L11: =IFERROR(IF(ISNUMBER(SEARCH("JPY",D11)),((V11-K11)*100),((V11-K11)*10000)),"") -> 21.9 | M11: =1-L11/O11 -> 0.562 | N11: =IFERROR(IF(M11>50%,M11*-1,""),"") -> -0.562 | O11: =IFERROR(IF(ISNUMBER(SEARCH("JPY",D11)),((S11-K11)*100),((S11-K11)*10000)),"") -> 50 | P11: =IFERROR(IF(Q11>50%,Q11,""),"") | Q11: =1-R11/O11 -> 0.438 | R11: =IFERROR(IF(ISNUMBER(SEARCH("JPY",D11)),((S11-V11)*100),((S11-V11)*10000)),"") -> 28.1 | S11: =IFERROR(VLOOKUP(D11,'Data Feed'!$A$3:$I$30,9,FALSE),"") -> 0.89166 | U11: =IFERROR(VLOOKUP(D11,'Data Feed'!A:I,2,FALSE),"") -> 2020 | V11: =(F11+I11)/2 -> 0.88885 | W11: EUR
C12: 9 | D12: EURAUD | F12: =IFERROR(VLOOKUP(D12,'Data Feed'!$A$3:$F$30,3,FALSE),"") -> 1.62944 | H12: =IFERROR(VLOOKUP(D12,'Data Feed'!$A$3:$F$30,5,FALSE),"") -> 0.5 | I12: =IFERROR(VLOOKUP(D12,'Data Feed'!$A$3:$F$30,4,FALSE),"") -> 1.62949 | K12: =IFERROR(VLOOKUP(D12,'Data Feed'!$A$3:$I$30,8,FALSE),"") -> 1.62811 | L12: =IFERROR(IF(ISNUMBER(SEARCH("JPY",D12)),((V12-K12)*100),((V12-K12)*10000)),"") -> 13.55 | M12: =1-L12/O12 -> 0.89992614 | N12: =IFERROR(IF(M12>50%,M12*-1,""),"") -> -0.89992614 | O12: =IFERROR(IF(ISNUMBER(SEARCH("JPY",D12)),((S12-K12)*100),((S12-K12)*10000)),"") -> 135.4 | P12: =IFERROR(IF(Q12>50%,Q12,""),"") | Q12: =1-R12/O12 -> 0.10007386 | R12: =IFERROR(IF(ISNUMBER(SEARCH("JPY",D12)),((S12-V12)*100),((S12-V12)*10000)),"") -> 121.85 | S12: =IFERROR(VLOOKUP(D12,'Data Feed'!$A$3:$I$30,9,FALSE),"") -> 1.64165 | U12: =IFERROR(VLOOKUP(D12,'Data Feed'!A:I,2,FALSE),"") -> 2020 | V12: =(F12+I12)/2 -> 1.629465
C13: 10 | D13: EURCAD | F13: =IFERROR(VLOOKUP(D13,'Data Feed'!$A$3:$F$30,3,FALSE),"") -> 1.50963 | H13: =IFERROR(VLOOKUP(D13,'Data Feed'!$A$3:$F$30,5,FALSE),"") -> 0.8 | I13: =IFERROR(VLOOKUP(D13,'Data Feed'!$A$3:$F$30,4,FALSE),"") -> 1.50971 | K13: =IFERROR(VLOOKUP(D13,'Data Feed'!$A$3:$I$30,8,FALSE),"") -> 1.50547 | L13: =IFERROR(IF(ISNUMBER(SEARCH("JPY",D13)),((V13-K13)*100),((V13-K13)*10000)),"") -> 42 | M13: =1-L13/O13 -> 0.31484502 | N13: =IFERROR(IF(M13>50%,M13*-1,""),"") | O13: =IFERROR(IF(ISNUMBER(SEARCH("JPY",D13)),((S13-K13)*100),((S13-K13)*10000)),"") -> 61.3 | P13: =IFERROR(IF(Q13>50%,Q13,""),"") -> 0.68515498 | Q13: =1-R13/O13 -> 0.68515498 | R13: =IFERROR(IF(ISNUMBER(SEARCH("JPY",D13)),((S13-V13)*100),((S13-V13)*10000)),"") -> 19.3 | S13: =IFERROR(VLOOKUP(D13,'Data Feed'!$A$3:$I$30,9,FALSE),"") -> 1.5116 | U13: =IFERROR(VLOOKUP(D13,'Data Feed'!A:I,2,FALSE),"") -> 2020 | V13: =(F13+I13)/2 -> 1.50967
C14: 11 | D14: EURCHF | F14: =IFERROR(VLOOKUP(D14,'Data Feed'!$A$3:$F$30,3,FALSE),"") -> 1.07411 | H14: =IFERROR(VLOOKUP(D14,'Data Feed'!$A$3:$F$30,5,FALSE),"") -> 0.3 | I14: =IFERROR(VLOOKUP(D14,'Data Feed'!$A$3:$F$30,4,FALSE),"") -> 1.07414 | K14: =IFERROR(VLOOKUP(D14,'Data Feed'!$A$3:$I$30,8,FALSE),"") -> 1.06856 | L14: =IFERROR(IF(ISNUMBER(SEARCH("JPY",D14)),((V14-K14)*100),((V14-K14)*10000)),"") -> 55.65 | M14: =1-L14/O14 -> 0.28100775 | N14: =IFERROR(IF(M14>50%,M14*-1,""),"") | O14: =IFERROR(IF(ISNUMBER(SEARCH("JPY",D14)),((S14-K14)*100),((S14-K14)*10000)),"") -> 77.4 | P14: =IFERROR(IF(Q14>50%,Q14,""),"") -> 0.71899225 | Q14: =1-R14/O14 -> 0.71899225 | R14: =IFERROR(IF(ISNUMBER(SEARCH("JPY",D14)),((S14-V14)*100),((S14-V14)*10000)),"") -> 21.75 | S14: =IFERROR(VLOOKUP(D14,'Data Feed'!$A$3:$I$30,9,FALSE),"") -> 1.0763 | U14: =IFERROR(VLOOKUP(D14,'Data Feed'!A:I,2,FALSE),"") -> 2020 | V14: =(F14+I14)/2 -> 1.074125
C15: 12 | D15: EURNZD | F15: =IFERROR(VLOOKUP(D15,'Data Feed'!$A$3:$F$30,3,FALSE),"") -> 1.76874 | H15: =IFERROR(VLOOKUP(D15,'Data Feed'!$A$3:$F$30,5,FALSE),"") -> 0.6 | I15: =IFERROR(VLOOKUP(D15,'Data Feed'!$A$3:$F$30,4,FALSE),"") -> 1.7688 | K15: =IFERROR(VLOOKUP(D15,'Data Feed'!$A$3:$I$30,8,FALSE),"") -> 1.7657 | L15: =IFERROR(IF(ISNUMBER(SEARCH("JPY",D15)),((V15-K15)*100),((V15-K15)*10000)),"") -> 30.7 | M15: =1-L15/O15 -> 0.75121556 | N15: =IFERROR(IF(M15>50%,M15*-1,""),"") -> -0.75121556 | O15: =IFERROR(IF(ISNUMBER(SEARCH("JPY",D15)),((S15-K15)*100),((S15-K15)*10000)),"") -> 123.4 | P15: =IFERROR(IF(Q15>50%,Q15,""),"") | Q15: =1-R15/O15 -> 0.24878444 | R15: =IFERROR(IF(ISNUMBER(SEARCH("JPY",D15)),((S15-V15)*100),((S15-V15)*10000)),"") -> 92.7 | S15: =IFERROR(VLOOKUP(D15,'Data Feed'!$A$3:$I$30,9,FALSE),"") -> 1.77804 | U15: =IFERROR(VLOOKUP(D15,'Data Feed'!A:I,2,FALSE),"") -> 2020 | V15: =(F15+I15)/2 -> 1.76877
B16: GBP | C16: 13 | D16: GBPAUD | F16: =IFERROR(VLOOKUP(D16,'Data Feed'!$A$3:$F$30,3,FALSE),"") -> 1.83323 | G16: =AVERAGE(H16:H19) -> 1.1 | H16: =IFERROR(VLOOKUP(D16,'Data Feed'!$A$3:$F$30,5,FALSE),"") -> 1 | I16: =IFERROR(VLOOKUP(D16,'Data Feed'!$A$3:$F$30,4,FALSE),"") -> 1.83333 | K16: =IFERROR(VLOOKUP(D16,'Data Feed'!$A$3:$I$30,8,FALSE),"") -> 1.82922 | L16: =IFERROR(IF(ISNUMBER(SEARCH("JPY",D16)),((V16-K16)*100),((V16-K16)*10000)),"") -> 40.6 | M16: =1-L16/O16 -> 0.75258988 | N16: =IFERROR(IF(M16>50%,M16*-1,""),"") -> -0.75258988 | O16: =IFERROR(IF(ISNUMBER(SEARCH("JPY",D16)),((S16-K16)*100),((S16-K16)*10000)),"") -> 164.1 | P16: =IFERROR(IF(Q16>50%,Q16,""),"") | Q16: =1-R16/O16 -> 0.24741012 | R16: =IFERROR(IF(ISNUMBER(SEARCH("JPY",D16)),((S16-V16)*100),((S16-V16)*10000)),"") -> 123.5 | S16: =IFERROR(VLOOKUP(D16,'Data Feed'!$A$3:$I$30,9,FALSE),"") -> 1.84563 | U16: =IFERROR(VLOOKUP(D16,'Data Feed'!A:I,2,FALSE),"") -> 2020 | V16: =(F16+I16)/2 -> 1.83328 | W16: GBP
C17: 14 | D17: GBPCAD | F17: =IFERROR(VLOOKUP(D17,'Data Feed'!$A$3:$F$30,3,FALSE),"") -> 1.69845 | H17: =IFERROR(VLOOKUP(D17,'Data Feed'!$A$3:$F$30,5,FALSE),"") -> 0.7 | I17: =IFERROR(VLOOKUP(D17,'Data Feed'!$A$3:$F$30,4,FALSE),"") -> 1.69852 | K17: =IFERROR(VLOOKUP(D17,'Data Feed'!$A$3:$I$30,8,FALSE),"") -> 1.6906 | L17: =IFERROR(IF(ISNUMBER(SEARCH("JPY",D17)),((V17-K17)*100),((V17-K17)*10000)),"") -> 78.85 | M17: =1-L17/O17 -> 0.038414634 | N17: =IFERROR(IF(M17>50%,M17*-1,""),"") | O17: =IFERROR(IF(ISNUMBER(SEARCH("JPY",D17)),((S17-K17)*100),((S17-K17)*10000)),"") -> 82 | P17: =IFERROR(IF(Q17>50%,Q17,""),"") -> 0.96158537 | Q17: =1-R17/O17 -> 0.96158537 | R17: =IFERROR(IF(ISNUMBER(SEARCH("JPY",D17)),((S17-V17)*100),((S17-V17)*10000)),"") -> 3.15 | S17: =IFERROR(VLOOKUP(D17,'Data Feed'!$A$3:$I$30,9,FALSE),"") -> 1.6988 | U17: =IFERROR(VLOOKUP(D17,'Data Feed'!A:I,2,FALSE),"") -> 2020 | V17: =(F17+I17)/2 -> 1.698485
C18: 15 | D18: GBPCHF | F18: =IFERROR(VLOOKUP(D18,'Data Feed'!$A$3:$F$30,3,FALSE),"") -> 1.20844 | H18: =IFERROR(VLOOKUP(D18,'Data Feed'!$A$3:$F$30,5,FALSE),"") -> 0.8 | I18: =IFERROR(VLOOKUP(D18,'Data Feed'!$A$3:$F$30,4,FALSE),"") -> 1.20852 | K18: =IFERROR(VLOOKUP(D18,'Data Feed'!$A$3:$I$30,8,FALSE),"") -> 1.1994 | L18: =IFERROR(IF(ISNUMBER(SEARCH("JPY",D18)),((V18-K18)*100),((V18-K18)*10000)),"") -> 90.8 | M18: =1-L18/O18 -> 0.12270531 | N18: =IFERROR(IF(M18>50%,M18*-1,""),"") | O18: =IFERROR(IF(ISNUMBER(SEARCH("JPY",D18)),((S18-K18)*100),((S18-K18)*10000)),"") -> 103.5 | P18: =IFERROR(IF(Q18>50%,Q18,""),"") -> 0.87729469 | Q18: =1-R18/O18 -> 0.87729469 | R18: =IFERROR(IF(ISNUMBER(SEARCH("JPY",D18)),((S18-V18)*100),((S18-V18)*10000)),"") -> 12.7 | S18: =IFERROR(VLOOKUP(D18,'Data Feed'!$A$3:$I$30,9,FALSE),"") -> 1.20975 | U18: =IFERROR(VLOOKUP(D18,'Data Feed'!A:I,2,FALSE),"") -> 2020 | V18: =(F18+I18)/2 -> 1.20848
C19: 16 | D19: GBPNZD | F19: =IFERROR(VLOOKUP(D19,'Data Feed'!$A$3:$F$30,3,FALSE),"") -> 1.98991 | H19: =IFERROR(VLOOKUP(D19,'Data Feed'!$A$3:$F$30,5,FALSE),"") -> 1.9 | I19: =IFERROR(VLOOKUP(D19,'Data Feed'!$A$3:$F$30,4,FALSE),"") -> 1.9901 | K19: =IFERROR(VLOOKUP(D19,'Data Feed'!$A$3:$I$30,8,FALSE),"") -> 1.98224 | L19: =IFERROR(IF(ISNUMBER(SEARCH("JPY",D19)),((V19-K19)*100),((V19-K19)*10000)),"") -> 77.65 | M19: =1-L19/O19 -> 0.56547286 | N19: =IFERROR(IF(M19>50%,M19*-1,""),"") -> -0.56547286 | O19: =IFERROR(IF(ISNUMBER(SEARCH("JPY",D19)),((S19-K19)*100),((S19-K19)*10000)),"") -> 178.7 | P19: =IFERROR(IF(Q19>50%,Q19,""),"") | Q19: =1-R19/O19 -> 0.43452714 | R19: =IFERROR(IF(ISNUMBER(SEARCH("JPY",D19)),((S19-V19)*100),((S19-V19)*10000)),"") -> 101.05 | S19: =IFERROR(VLOOKUP(D19,'Data Feed'!$A$3:$I$30,9,FALSE),"") -> 2.00011 | U19: =IFERROR(VLOOKUP(D19,'Data Feed'!A:I,2,FALSE),"") -> 2020 | V19: =(F19+I19)/2 -> 1.990005
B20: JPY | C20: 17 | D20: EURJPY | F20: =IFERROR(VLOOKUP(D20,'Data Feed'!$A$3:$F$30,3,FALSE),"") -> 120.347 | G20: =AVERAGE(H20:H25) -> 0.3 | H20: =IFERROR(VLOOKUP(D20,'Data Feed'!$A$3:$F$30,5,FALSE),"") -> 0.1 | I20: =IFERROR(VLOOKUP(D20,'Data Feed'!$A$3:$F$30,4,FALSE),"") -> 120.348 | K20: =IFERROR(VLOOKUP(D20,'Data Feed'!$A$3:$I$30,8,FALSE),"") -> 119.624 | L20: =IFERROR(IF(ISNUMBER(SEARCH("JPY",D20)),((V20-K20)*100),((V20-K20)*10000)),"") -> 72.35 | M20: =1-L20/O20 -> 0.21952535 | N20: =IFERROR(IF(M20>50%,M20*-1,""),"") | O20: =IFERROR(IF(ISNUMBER(SEARCH("JPY",D20)),((S20-K20)*100),((S20-K20)*10000)),"") -> 92.7 | P20: =IFERROR(IF(Q20>50%,Q20,""),"") -> 0.78047465 | Q20: =1-R20/O20 -> 0.78047465 | R20: =IFERROR(IF(ISNUMBER(SEARCH("JPY",D20)),((S20-V20)*100),((S20-V20)*10000)),"") -> 20.35 | S20: =IFERROR(VLOOKUP(D20,'Data Feed'!$A$3:$I$30,9,FALSE),"") -> 120.551 | U20: =IFERROR(VLOOKUP(D20,'Data Feed'!A:I,2,FALSE),"") -> 2020 | V20: =(F20+I20)/2 -> 120.3475 | W20: JPY
C21: 18 | D21: GBPJPY | F21: =IFERROR(VLOOKUP(D21,'Data Feed'!$A$3:$F$30,3,FALSE),"") -> 135.4 | H21: =IFERROR(VLOOKUP(D21,'Data Feed'!$A$3:$F$30,5,FALSE),"") -> 0.2 | I21: =IFERROR(VLOOKUP(D21,'Data Feed'!$A$3:$F$30,4,FALSE),"") -> 135.402 | K21: =IFERROR(VLOOKUP(D21,'Data Feed'!$A$3:$I$30,8,FALSE),"") -> 134.219 | L21: =IFERROR(IF(ISNUMBER(SEARCH("JPY",D21)),((V21-K21)*100),((V21-K21)*10000)),"") -> 118.2 | M21: =1-L21/O21 -> 0.077283372 | N21: =IFERROR(IF(M21>50%,M21*-1,""),"") | O21: =IFERROR(IF(ISNUMBER(SEARCH("JPY",D21)),((S21-K21)*100),((S21-K21)*10000)),"") -> 128.1 | P21: =IFERROR(IF(Q21>50%,Q21,""),"") -> 0.92271663 | Q21: =1-R21/O21 -> 0.92271663 | R21: =IFERROR(IF(ISNUMBER(SEARCH("JPY",D21)),((S21-V21)*100),((S21-V21)*10000)),"") -> 9.9 | S21: =IFERROR(VLOOKUP(D21,'Data Feed'!$A$3:$I$30,9,FALSE),"") -> 135.5 | U21: =IFERROR(VLOOKUP(D21,'Data Feed'!A:I,2,FALSE),"") -> 2020 | V21: =(F21+I21)/2 -> 135.401
C22: 19 | D22: AUDJPY | F22: =IFERROR(VLOOKUP(D22,'Data Feed'!$A$3:$F$30,3,FALSE),"") -> 73.856 | H22: =IFERROR(VLOOKUP(D22,'Data Feed'!$A$3:$F$30,5,FALSE),"") -> 0.3 | I22: =IFERROR(VLOOKUP(D22,'Data Feed'!$A$3:$F$30,4,FALSE),"") -> 73.859 | K22: =IFERROR(VLOOKUP(D22,'Data Feed'!$A$3:$I$30,8,FALSE),"") -> 72.933 | L22: =IFERROR(IF(ISNUMBER(SEARCH("JPY",D22)),((V22-K22)*100),((V22-K22)*10000)),"") -> 92.45 | M22: =1-L22/O22 -> 0.14239332 | N22: =IFERROR(IF(M22>50%,M22*-1,""),"") | O22: =IFERROR(IF(ISNUMBER(SEARCH("JPY",D22)),((S22-K22)*100),((S22-K22)*10000)),"") -> 107.8 | P22: =IFERROR(IF(Q22>50%,Q22,""),"") -> 0.85760668 | Q22: =1-R22/O22 -> 0.85760668 | R22: =IFERROR(IF(ISNUMBER(SEARCH("JPY",D22)),((S22-V22)*100),((S22-V22)*10000)),"") -> 15.35 | S22: =IFERROR(VLOOKUP(D22,'Data Feed'!$A$3:$I$30,9,FALSE),"") -> 74.011 | U22: =IFERROR(VLOOKUP(D22,'Data Feed'!A:I,2,FALSE),"") -> 2020 | V22: =(F22+I22)/2 -> 73.8575
C23: 20 | D23: NZDJPY | F23: =IFERROR(VLOOKUP(D23,'Data Feed'!$A$3:$F$30,3,FALSE),"") -> 68.039 | H23: =IFERROR(VLOOKUP(D23,'Data Feed'!$A$3:$F$30,5,FALSE),"") -> 0.4 | I23: =IFERROR(VLOOKUP(D23,'Data Feed'!$A$3:$F$30,4,FALSE),"") -> 68.043 | K23: =IFERROR(VLOOKUP(D23,'Data Feed'!$A$3:$I$30,8,FALSE),"") -> 67.515 | L23: =IFERROR(IF(ISNUMBER(SEARCH("JPY",D23)),((V23-K23)*100),((V23-K23)*10000)),"") -> 52.6 | M23: =1-L23/O23 -> 0.055655296 | N23: =IFERROR(IF(M23>50%,M23*-1,""),"") | O23: =IFERROR(IF(ISNUMBER(SEARCH("JPY",D23)),((S23-K23)*100),((S23-K23)*10000)),"") -> 55.7 | P23: =IFERROR(IF(Q23>50%,Q23,""),"") -> 0.9443447 | Q23: =1-R23/O23 -> 0.9443447 | R23: =IFERROR(IF(ISNUMBER(SEARCH("JPY",D23)),((S23-V23)*100),((S23-V23)*10000)),"") -> 3.1 | S23: =IFERROR(VLOOKUP(D23,'Data Feed'!$A$3:$I$30,9,FALSE),"") -> 68.072 | U23: =IFERROR(VLOOKUP(D23,'Data Feed'!A:I,2,FALSE),"") -> 2020 | V23: =(F23+I23)/2 -> 68.041
C24: 21 | D24: CADJPY | F24: =IFERROR(VLOOKUP(D24,'Data Feed'!$A$3:$F$30,3,FALSE),"") -> 79.717 | H24: =IFERROR(VLOOKUP(D24,'Data Feed'!$A$3:$F$30,5,FALSE),"") -> 0.2 | I24: =IFERROR(VLOOKUP(D24,'Data Feed'!$A$3:$F$30,4,FALSE),"") -> 79.719 | K24: =IFERROR(VLOOKUP(D24,'Data Feed'!$A$3:$I$30,8,FALSE),"") -> 79.154 | L24: =IFERROR(IF(ISNUMBER(SEARCH("JPY",D24)),((V24-K24)*100),((V24-K24)*10000)),"") -> 56.4 | M24: =1-L24/O24 -> 0.19772404 | N24: =IFERROR(IF(M24>50%,M24*-1,""),"") | O24: =IFERROR(IF(ISNUMBER(SEARCH("JPY",D24)),((S24-K24)*100),((S24-K24)*10000)),"") -> 70.3 | P24: =IFERROR(IF(Q24>50%,Q24,""),"") -> 0.80227596 | Q24: =1-R24/O24 -> 0.80227596 | R24: =IFERROR(IF(ISNUMBER(SEARCH("JPY",D24)),((S24-V24)*100),((S24-V24)*10000)),"") -> 13.9 | S24: =IFERROR(VLOOKUP(D24,'Data Feed'!$A$3:$I$30,9,FALSE),"") -> 79.857 | U24: =IFERROR(VLOOKUP(D24,'Data Feed'!A:I,2,FALSE),"") -> 2020 | V24: =(F24+I24)/2 -> 79.718
C25: 22 | D25: CHFJPY | F25: =IFERROR(VLOOKUP(D25,'Data Feed'!$A$3:$F$30,3,FALSE),"") -> 112.04 | H25: =IFERROR(VLOOKUP(D25,'Data Feed'!$A$3:$F$30,5,FALSE),"") -> 0.6 | I25: =IFERROR(VLOOKUP(D25,'Data Feed'!$A$3:$F$30,4,FALSE),"") -> 112.046 | K25: =IFERROR(VLOOKUP(D25,'Data Feed'!$A$3:$I$30,8,FALSE),"") -> 111.818 | L25: =IFERROR(IF(ISNUMBER(SEARCH("JPY",D25)),((V25-K25)*100),((V25-K25)*10000)),"") -> 22.5 | M25: =1-L25/O25 -> 0.69008264 | N25: =IFERROR(IF(M25>50%,M25*-1,""),"") -> -0.69008264 | O25: =IFERROR(IF(ISNUMBER(SEARCH("JPY",D25)),((S25-K25)*100),((S25-K25)*10000)),"") -> 72.6 | P25: =IFERROR(IF(Q25>50%,Q25,""),"") | Q25: =1-R25/O25 -> 0.30991736 | R25: =IFERROR(IF(ISNUMBER(SEARCH("JPY",D25)),((S25-V25)*100),((S25-V25)*10000)),"") -> 50.1 | S25: =IFERROR(VLOOKUP(D25,'Data Feed'!$A$3:$I$30,9,FALSE),"") -> 112.544 | U25: =IFERROR(VLOOKUP(D25,'Data Feed'!A:I,2,FALSE),"") -> 2020 | V25: =(F25+I25)/2 -> 112.043
B26: Other | C26: 23 | D26: AUDCAD | F26: =IFERROR(VLOOKUP(D26,'Data Feed'!$A$3:$F$30,3,FALSE),"") -> 0.92646 | G26: =AVERAGE(H26:H31) -> 0.45 | H26: =IFERROR(VLOOKUP(D26,'Data Feed'!$A$3:$F$30,5,FALSE),"") -> 0.4 | I26: =IFERROR(VLOOKUP(D26,'Data Feed'!$A$3:$F$30,4,FALSE),"") -> 0.9265 | K26: =IFERROR(VLOOKUP(D26,'Data Feed'!$A$3:$I$30,8,FALSE),"") -> 0.91927 | L26: =IFERROR(IF(ISNUMBER(SEARCH("JPY",D26)),((V26-K26)*100),((V26-K26)*10000)),"") -> 72.1 | M26: =1-L26/O26 -> 0.11533742 | N26: =IFERROR(IF(M26>50%,M26*-1,""),"") | O26: =IFERROR(IF(ISNUMBER(SEARCH("JPY",D26)),((S26-K26)*100),((S26-K26)*10000)),"") -> 81.5 | P26: =IFERROR(IF(Q26>50%,Q26,""),"") -> 0.88466258 | Q26: =1-R26/O26 -> 0.88466258 | R26: =IFERROR(IF(ISNUMBER(SEARCH("JPY",D26)),((S26-V26)*100),((S26-V26)*10000)),"") -> 9.4 | S26: =IFERROR(VLOOKUP(D26,'Data Feed'!$A$3:$I$30,9,FALSE),"") -> 0.92742 | U26: =IFERROR(VLOOKUP(D26,'Data Feed'!A:I,2,FALSE),"") -> 2020 | V26: =(F26+I26)/2 -> 0.92648 | W26: Other
C27: 24 | D27: AUDCHF | F27: =IFERROR(VLOOKUP(D27,'Data Feed'!$A$3:$F$30,3,FALSE),"") -> 0.65917 | H27: =IFERROR(VLOOKUP(D27,'Data Feed'!$A$3:$F$30,5,FALSE),"") -> 0.4 | I27: =IFERROR(VLOOKUP(D27,'Data Feed'!$A$3:$F$30,4,FALSE),"") -> 0.65921 | K27: =IFERROR(VLOOKUP(D27,'Data Feed'!$A$3:$I$30,8,FALSE),"") -> 0.65138 | L27: =IFERROR(IF(ISNUMBER(SEARCH("JPY",D27)),((V27-K27)*100),((V27-K27)*10000)),"") -> 78.1 | M27: =1-L27/O27 -> 0.18730489 | N27: =IFERROR(IF(M27>50%,M27*-1,""),"") | O27: =IFERROR(IF(ISNUMBER(SEARCH("JPY",D27)),((S27-K27)*100),((S27-K27)*10000)),"") -> 96.1 | P27: =IFERROR(IF(Q27>50%,Q27,""),"") -> 0.81269511 | Q27: =1-R27/O27 -> 0.81269511 | R27: =IFERROR(IF(ISNUMBER(SEARCH("JPY",D27)),((S27-V27)*100),((S27-V27)*10000)),"") -> 18 | S27: =IFERROR(VLOOKUP(D27,'Data Feed'!$A$3:$I$30,9,FALSE),"") -> 0.66099 | U27: =IFERROR(VLOOKUP(D27,'Data Feed'!A:I,2,FALSE),"") -> 2020 | V27: =(F27+I27)/2 -> 0.65919
C28: 25 | D28: AUDNZD | F28: =IFERROR(VLOOKUP(D28,'Data Feed'!$A$3:$F$30,3,FALSE),"") -> 1.08544 | H28: =IFERROR(VLOOKUP(D28,'Data Feed'!$A$3:$F$30,5,FALSE),"") -> 0.7 | I28: =IFERROR(VLOOKUP(D28,'Data Feed'!$A$3:$F$30,4,FALSE),"") -> 1.08551 | K28: =IFERROR(VLOOKUP(D28,'Data Feed'!$A$3:$I$30,8,FALSE),"") -> 1.07894 | L28: =IFERROR(IF(ISNUMBER(SEARCH("JPY",D28)),((V28-K28)*100),((V28-K28)*10000)),"") -> 65.35 | M28: =1-L28/O28 -> 0.28422782 | N28: =IFERROR(IF(M28>50%,M28*-1,""),"") | O28: =IFERROR(IF(ISNUMBER(SEARCH("JPY",D28)),((S28-K28)*100),((S28-K28)*10000)),"") -> 91.3 | P28: =IFERROR(IF(Q28>50%,Q28,""),"") -> 0.71577218 | Q28: =1-R28/O28 -> 0.71577218 | R28: =IFERROR(IF(ISNUMBER(SEARCH("JPY",D28)),((S28-V28)*100),((S28-V28)*10000)),"") -> 25.95 | S28: =IFERROR(VLOOKUP(D28,'Data Feed'!$A$3:$I$30,9,FALSE),"") -> 1.08807 | U28: =IFERROR(VLOOKUP(D28,'Data Feed'!A:I,2,FALSE),"") -> 2020 | V28: =(F28+I28)/2 -> 1.085475
C29: 26 | D29: NZDCAD | F29: =IFERROR(VLOOKUP(D29,'Data Feed'!$A$3:$F$30,3,FALSE),"") -> 0.85346 | H29: =IFERROR(VLOOKUP(D29,'Data Feed'!$A$3:$F$30,5,FALSE),"") -> 0.8 | I29: =IFERROR(VLOOKUP(D29,'Data Feed'!$A$3:$F$30,4,FALSE),"") -> 0.85354 | K29: =IFERROR(VLOOKUP(D29,'Data Feed'!$A$3:$I$30,8,FALSE),"") -> 0.84818 | L29: =IFERROR(IF(ISNUMBER(SEARCH("JPY",D29)),((V29-K29)*100),((V29-K29)*10000)),"") -> 53.2 | M29: =1-L29/O29 -> 0.2662069 | N29: =IFERROR(IF(M29>50%,M29*-1,""),"") | O29: =IFERROR(IF(ISNUMBER(SEARCH("JPY",D29)),((S29-K29)*100),((S29-K29)*10000)),"") -> 72.5 | P29: =IFERROR(IF(Q29>50%,Q29,""),"") -> 0.7337931 | Q29: =1-R29/O29 -> 0.7337931 | R29: =IFERROR(IF(ISNUMBER(SEARCH("JPY",D29)),((S29-V29)*100),((S29-V29)*10000)),"") -> 19.3 | S29: =IFERROR(VLOOKUP(D29,'Data Feed'!$A$3:$I$30,9,FALSE),"") -> 0.85543 | U29: =IFERROR(VLOOKUP(D29,'Data Feed'!A:I,2,FALSE),"") -> 2020 | V29: =(F29+I29)/2 -> 0.8535
C30: 27 | D30: NZDCHF | F30: =IFERROR(VLOOKUP(D30,'Data Feed'!$A$3:$F$30,3,FALSE),"") -> 0.60727 | H30: =IFERROR(VLOOKUP(D30,'Data Feed'!$A$3:$F$30,5,FALSE),"") -> 0.2 | I30: =IFERROR(VLOOKUP(D30,'Data Feed'!$A$3:$F$30,4,FALSE),"") -> 0.60729 | K30: =IFERROR(VLOOKUP(D30,'Data Feed'!$A$3:$I$30,8,FALSE),"") -> 0.60137 | L30: =IFERROR(IF(ISNUMBER(SEARCH("JPY",D30)),((V30-K30)*100),((V30-K30)*10000)),"") -> 59.1 | M30: =1-L30/O30 -> 0.089368259 | N30: =IFERROR(IF(M30>50%,M30*-1,""),"") | O30: =IFERROR(IF(ISNUMBER(SEARCH("JPY",D30)),((S30-K30)*100),((S30-K30)*10000)),"") -> 64.9 | P30: =IFERROR(IF(Q30>50%,Q30,""),"") -> 0.91063174 | Q30: =1-R30/O30 -> 0.91063174 | R30: =IFERROR(IF(ISNUMBER(SEARCH("JPY",D30)),((S30-V30)*100),((S30-V30)*10000)),"") -> 5.8 | S30: =IFERROR(VLOOKUP(D30,'Data Feed'!$A$3:$I$30,9,FALSE),"") -> 0.60786 | U30: =IFERROR(VLOOKUP(D30,'Data Feed'!A:I,2,FALSE),"") -> 2020 | V30: =(F30+I30)/2 -> 0.60728
C31: 28 | D31: CADCHF | F31: =IFERROR(VLOOKUP(D31,'Data Feed'!$A$3:$F$30,3,FALSE),"") -> 0.7115 | H31: =IFERROR(VLOOKUP(D31,'Data Feed'!$A$3:$F$30,5,FALSE),"") -> 0.2 | I31: =IFERROR(VLOOKUP(D31,'Data Feed'!$A$3:$F$30,4,FALSE),"") -> 0.71152 | K31: =IFERROR(VLOOKUP(D31,'Data Feed'!$A$3:$I$30,8,FALSE),"") -> 0.70685 | L31: =IFERROR(IF(ISNUMBER(SEARCH("JPY",D31)),((V31-K31)*100),((V31-K31)*10000)),"") -> 46.6 | M31: =1-L31/O31 -> 0.22462562 | N31: =IFERROR(IF(M31>50%,M31*-1,""),"") | O31: =IFERROR(IF(ISNUMBER(SEARCH("JPY",D31)),((S31-K31)*100),((S31-K31)*10000)),"") -> 60.1 | P31: =IFERROR(IF(Q31>50%,Q31,""),"") -> 0.77537438 | Q31: =1-R31/O31 -> 0.77537438 | R31: =IFERROR(IF(ISNUMBER(SEARCH("JPY",D31)),((S31-V31)*100),((S31-V31)*10000)),"") -> 13.5 | S31: =IFERROR(VLOOKUP(D31,'Data Feed'!$A$3:$I$30,9,FALSE),"") -> 0.71286 | U31: =IFERROR(VLOOKUP(D31,'Data Feed'!A:I,2,FALSE),"") -> 2020 | V31: =(F31+I31)/2 -> 0.71151
H33: T/B | I33: Filter
G34: L | H34: =MIN(H4:H31) -> 0 | I34: 1.9
G35: H | H35: =MAX(H4:H31) -> 1.9 | I35: 3

Sheet DDE Live Data
A1: Symbol | B1: Server Time | C1: Bid | D1: Ask | E1: Low | F1: High | G1: Quote
A2: AUDCAD | B2: =[2]!AUDCAD -> 2020 | C2: =[3]!AUDCAD -> 0.92646 | D2: =[4]!AUDCAD -> 0.9265 | E2: =[5]!AUDCAD -> 0.91927 | F2: =[6]!AUDCAD -> 0.92742 | G2: =[7]!AUDCAD -> 2020
A3: AUDCHF | B3: =[2]!AUDCHF -> 2020 | C3: =[3]!AUDCHF -> 0.65917 | D3: =[4]!AUDCHF -> 0.65921 | E3: =[5]!AUDCHF -> 0.65138 | F3: =[6]!AUDCHF -> 0.66099 | G3: =[7]!AUDCHF -> 2020
A4: AUDJPY | B4: =[2]!AUDJPY -> 2020 | C4: =[3]!AUDJPY -> 73.856 | D4: =[4]!AUDJPY -> 73.859 | E4: =[5]!AUDJPY -> 72.933 | F4: =[6]!AUDJPY -> 74.011 | G4: =[7]!AUDJPY -> 2020
A5: AUDNZD | B5: =[2]!AUDNZD -> 2020 | C5: =[3]!AUDNZD -> 1.08544 | D5: =[4]!AUDNZD -> 1.08551 | E5: =[5]!AUDNZD -> 1.07894 | F5: =[6]!AUDNZD -> 1.08807 | G5: =[7]!AUDNZD -> 2020
A6: AUDUSD | B6: =[2]!AUDUSD -> 2020 | C6: =[3]!AUDUSD -> 0.68541 | D6: =[4]!AUDUSD -> 0.68543 | E6: =[5]!AUDUSD -> 0.67749 | F6: =[6]!AUDUSD -> 0.68693 | G6: =[7]!AUDUSD -> 2020
A7: CADCHF | B7: =[2]!CADCHF -> 2020 | C7: =[3]!CADCHF -> 0.7115 | D7: =[4]!CADCHF -> 0.71152 | E7: =[5]!CADCHF -> 0.70685 | F7: =[6]!CADCHF -> 0.71286 | G7: =[7]!CADCHF -> 2020
A8: CADJPY | B8: =[2]!CADJPY -> 2020 | C8: =[3]!CADJPY -> 79.717 | D8: =[4]!CADJPY -> 79.719 | E8: =[5]!CADJPY -> 79.154 | F8: =[6]!CADJPY -> 79.857 | G8: =[7]!CADJPY -> 2020
A9: CHFJPY | B9: =[2]!CHFJPY -> 2020 | C9: =[3]!CHFJPY -> 112.04 | D9: =[4]!CHFJPY -> 112.046 | E9: =[5]!CHFJPY -> 111.818 | F9: =[6]!CHFJPY -> 112.544 | G9: =[7]!CHFJPY -> 2020
A10: EURAUD | B10: =[2]!EURAUD -> 2020 | C10: =[3]!EURAUD -> 1.62944 | D10: =[4]!EURAUD -> 1.62949 | E10: =[5]!EURAUD -> 1.62811 | F10: =[6]!EURAUD -> 1.64165 | G10: =[7]!EURAUD -> 2020
A11: EURCAD | B11: =[2]!EURCAD -> 2020 | C11: =[3]!EURCAD -> 1.50963 | D11: =[4]!EURCAD -> 1.50971 | E11: =[5]!EURCAD -> 1.50547 | F11: =[6]!EURCAD -> 1.5116 | G11: =[7]!EURCAD -> 2020
A12: EURCHF | B12: =[2]!EURCHF -> 2020 | C12: =[3]!EURCHF -> 1.07411 | D12: =[4]!EURCHF -> 1.07414 | E12: =[5]!EURCHF -> 1.06856 | F12: =[6]!EURCHF -> 1.0763 | G12: =[7]!EURCHF -> 2020
A13: EURGBP | B13: =[2]!EURGBP -> 2020 | C13: =[3]!EURGBP -> 0.88884 | D13: =[4]!EURGBP -> 0.88886 | E13: =[5]!EURGBP -> 0.88666 | F13: =[6]!EURGBP -> 0.89166 | G13: =[7]!EURGBP -> 2020
A14: EURJPY | B14: =[2]!EURJPY -> 2020 | C14: =[3]!EURJPY -> 120.347 | D14: =[4]!EURJPY -> 120.348 | E14: =[5]!EURJPY -> 119.624 | F14: =[6]!EURJPY -> 120.551 | G14: =[7]!EURJPY -> 2020
A15: EURNZD | B15: =[2]!EURNZD -> 2020 | C15: =[3]!EURNZD -> 1.76874 | D15: =[4]!EURNZD -> 1.7688 | E15: =[5]!EURNZD -> 1.7657 | F15: =[6]!EURNZD -> 1.77804 | G15: =[7]!EURNZD -> 2020
A16: EURUSD | B16: =[2]!EURUSD -> 2020 | C16: =[3]!EURUSD -> 1.11686 | D16: =[4]!EURUSD -> 1.11686 | E16: =[5]!EURUSD -> 1.11152 | F16: =[6]!EURUSD -> 1.11878 | G16: =[7]!EURUSD -> 2020
A17: GBPAUD | B17: =[2]!GBPAUD -> 2020 | C17: =[3]!GBPAUD -> 1.83323 | D17: =[4]!GBPAUD -> 1.83333 | E17: =[5]!GBPAUD -> 1.82922 | F17: =[6]!GBPAUD -> 1.84563 | G17: =[7]!GBPAUD -> 2020
A18: GBPCAD | B18: =[2]!GBPCAD -> 2020 | C18: =[3]!GBPCAD -> 1.69845 | D18: =[4]!GBPCAD -> 1.69852 | E18: =[5]!GBPCAD -> 1.6906 | F18: =[6]!GBPCAD -> 1.6988 | G18: =[7]!GBPCAD -> 2020
A19: GBPCHF | B19: =[2]!GBPCHF -> 2020 | C19: =[3]!GBPCHF -> 1.20844 | D19: =[4]!GBPCHF -> 1.20852 | E19: =[5]!GBPCHF -> 1.1994 | F19: =[6]!GBPCHF -> 1.20975 | G19: =[7]!GBPCHF -> 2020
A20: GBPJPY | B20: =[2]!GBPJPY -> 2020 | C20: =[3]!GBPJPY -> 135.4 | D20: =[4]!GBPJPY -> 135.402 | E20: =[5]!GBPJPY -> 134.219 | F20: =[6]!GBPJPY -> 135.5 | G20: =[7]!GBPJPY -> 2020
A21: GBPNZD | B21: =[2]!GBPNZD -> 2020 | C21: =[3]!GBPNZD -> 1.98991 | D21: =[4]!GBPNZD -> 1.9901 | E21: =[5]!GBPNZD -> 1.98224 | F21: =[6]!GBPNZD -> 2.00011 | G21: =[7]!GBPNZD -> 2020
A22: GBPUSD | B22: =[2]!GBPUSD -> 2020 | C22: =[3]!GBPUSD -> 1.25656 | D22: =[4]!GBPUSD -> 1.25656 | E22: =[5]!GBPUSD -> 1.24785 | F22: =[6]!GBPUSD -> 1.25762 | G22: =[7]!GBPUSD -> 2020
A23: NZDCAD | B23: =[2]!NZDCAD -> 2020 | C23: =[3]!NZDCAD -> 0.85346 | D23: =[4]!NZDCAD -> 0.85354 | E23: =[5]!NZDCAD -> 0.84818 | F23: =[6]!NZDCAD -> 0.85543 | G23: =[7]!NZDCAD -> 2020
A24: NZDCHF | B24: =[2]!NZDCHF -> 2020 | C24: =[3]!NZDCHF -> 0.60727 | D24: =[4]!NZDCHF -> 0.60729 | E24: =[5]!NZDCHF -> 0.60137 | F24: =[6]!NZDCHF -> 0.60786 | G24: =[7]!NZDCHF -> 2020
A25: NZDJPY | B25: =[2]!NZDJPY -> 2020 | C25: =[3]!NZDJPY -> 68.039 | D25: =[4]!NZDJPY -> 68.043 | E25: =[5]!NZDJPY -> 67.515 | F25: =[6]!NZDJPY -> 68.072 | G25: =[7]!NZDJPY -> 2020
A26: NZDUSD | B26: =[2]!NZDUSD -> 2020 | C26: =[3]!NZDUSD -> 0.63142 | D26: =[4]!NZDUSD -> 0.63143 | E26: =[5]!NZDUSD -> 0.62629 | F26: =[6]!NZDUSD -> 0.63181 | G26: =[7]!NZDUSD -> 2020
A27: USDCAD | B27: =[2]!USDCAD -> 2020 | C27: =[3]!USDCAD -> 1.35168 | D27: =[4]!USDCAD -> 1.35172 | E27: =[5]!USDCAD -> 1.34932 | F27: =[6]!USDCAD -> 1.35852 | G27: =[7]!USDCAD -> 2020
A28: USDCHF | B28: =[2]!USDCHF -> 2020 | C28: =[3]!USDCHF -> 0.96171 | D28: =[4]!USDCHF -> 0.96173 | E28: =[5]!USDCHF -> 0.95731 | F28: =[6]!USDCHF -> 0.96298 | G28: =[7]!USDCHF -> 2020
A29: USDJPY | B29: =[2]!USDJPY -> 2020 | C29: =[3]!USDJPY -> 107.756 | D29: =[4]!USDJPY -> 107.756 | E29: =[5]!USDJPY -> 107.514 | F29: =[6]!USDJPY -> 107.836 | G29: =[7]!USDJPY -> 2020
A30: XAUUSD | B30: =[2]!XAUUSD -> 2020 | C30: =[3]!XAUUSD -> 1738.87 | D30: =[4]!XAUUSD -> 1739.14 | E30: =[5]!XAUUSD -> 1734.89 | F30: =[6]!XAUUSD -> 1743.23 | G30: =[7]!XAUUSD -> 2020
A31: USDSGD | B31: =[2]!USDSGD -> 2020 | C31: =[3]!USDSGD -> 1.40169 | D31: =[4]!USDSGD -> 1.40174 | E31: =[5]!USDSGD -> 1.40065 | F31: =[6]!USDSGD -> 1.40854 | G31: =[7]!USDSGD -> 2020

Sheet Data Feed
B1: DDE | E1: CALCULATED | H1: DDE
A2: Symbol | B2: Server Time | C2: Bid | D2: Ask | E2: Spread Pips | F2: Spread Points | G2: Avg Price | H2: Low | I2: High | J2: Local Time
A3: AUDCAD | B3: =IF($H$1="DDE",VLOOKUP(A3,'DDE Live Data'!$A$2:$D$29,2,FALSE),VLOOKUP(A3,#REF!,2,FALSE)) -> 2020 | C3: =IF($H$1="DDE",VLOOKUP(A3,'DDE Live Data'!$A$2:$D$29,3,FALSE),"") -> 0.92646 | D3: =IF($H$1="DDE",VLOOKUP(A3,'DDE Live Data'!$A$2:$D$29,4,FALSE),"") -> 0.9265 | E3: =IF(ISNUMBER(SEARCH("JPY",A3)),((D3-C3)*100),((D3-C3)*10000)) -> 0.4 | F3: =IF(ISNUMBER(SEARCH("JPY",A3)),((D3-C3)),((D3-C3))) -> 4e-05 | G3: =AVERAGE(C3:D3) -> 0.92648 | H3: =IF($H$1="DDE",VLOOKUP(A3,'DDE Live Data'!$A$2:$F$29,5,FALSE),"") -> 0.91927 | I3: =IF($H$1="DDE",VLOOKUP(A3,'DDE Live Data'!$A$2:$F$29,6,FALSE),"") -> 0.92742 | J3: =NOW() -> 43984.781
A4: AUDCHF | B4: =IF($H$1="DDE",VLOOKUP(A4,'DDE Live Data'!$A$2:$D$29,2,FALSE),VLOOKUP(A4,#REF!,2,FALSE)) -> 2020 | C4: =IF($H$1="DDE",VLOOKUP(A4,'DDE Live Data'!$A$2:$D$29,3,FALSE),"") -> 0.65917 | D4: =IF($H$1="DDE",VLOOKUP(A4,'DDE Live Data'!$A$2:$D$29,4,FALSE),"") -> 0.65921 | E4: =IF(ISNUMBER(SEARCH("JPY",A4)),((D4-C4)*100),((D4-C4)*10000)) -> 0.4 | F4: =IF(ISNUMBER(SEARCH("JPY",A4)),((D4-C4)),((D4-C4))) -> 4e-05 | G4: =AVERAGE(C4:D4) -> 0.65919 | H4: =IF($H$1="DDE",VLOOKUP(A4,'DDE Live Data'!$A$2:$F$29,5,FALSE),"") -> 0.65138 | I4: =IF($H$1="DDE",VLOOKUP(A4,'DDE Live Data'!$A$2:$F$29,6,FALSE),"") -> 0.66099 | J4: =NOW() -> 43984.781
A5: AUDJPY | B5: =IF($H$1="DDE",VLOOKUP(A5,'DDE Live Data'!$A$2:$D$29,2,FALSE),VLOOKUP(A5,#REF!,2,FALSE)) -> 2020 | C5: =IF($H$1="DDE",VLOOKUP(A5,'DDE Live Data'!$A$2:$D$29,3,FALSE),"") -> 73.856 | D5: =IF($H$1="DDE",VLOOKUP(A5,'DDE Live Data'!$A$2:$D$29,4,FALSE),"") -> 73.859 | E5: =IF(ISNUMBER(SEARCH("JPY",A5)),((D5-C5)*100),((D5-C5)*10000)) -> 0.3 | F5: =IF(ISNUMBER(SEARCH("JPY",A5)),((D5-C5)),((D5-C5))) -> 0.003 | G5: =AVERAGE(C5:D5) -> 73.8575 | H5: =IF($H$1="DDE",VLOOKUP(A5,'DDE Live Data'!$A$2:$F$29,5,FALSE),"") -> 72.933 | I5: =IF($H$1="DDE",VLOOKUP(A5,'DDE Live Data'!$A$2:$F$29,6,FALSE),"") -> 74.011 | J5: =NOW() -> 43984.781
A6: AUDNZD | B6: =IF($H$1="DDE",VLOOKUP(A6,'DDE Live Data'!$A$2:$D$29,2,FALSE),VLOOKUP(A6,#REF!,2,FALSE)) -> 2020 | C6: =IF($H$1="DDE",VLOOKUP(A6,'DDE Live Data'!$A$2:$D$29,3,FALSE),"") -> 1.08544 | D6: =IF($H$1="DDE",VLOOKUP(A6,'DDE Live Data'!$A$2:$D$29,4,FALSE),"") -> 1.08551 | E6: =IF(ISNUMBER(SEARCH("JPY",A6)),((D6-C6)*100),((D6-C6)*10000)) -> 0.7 | F6: =IF(ISNUMBER(SEARCH("JPY",A6)),((D6-C6)),((D6-C6))) -> 7e-05 | G6: =AVERAGE(C6:D6) -> 1.085475 | H6: =IF($H$1="DDE",VLOOKUP(A6,'DDE Live Data'!$A$2:$F$29,5,FALSE),"") -> 1.07894 | I6: =IF($H$1="DDE",VLOOKUP(A6,'DDE Live Data'!$A$2:$F$29,6,FALSE),"") -> 1.08807 | J6: =NOW() -> 43984.781
A7: AUDUSD | B7: =IF($H$1="DDE",VLOOKUP(A7,'DDE Live Data'!$A$2:$D$29,2,FALSE),VLOOKUP(A7,#REF!,2,FALSE)) -> 2020 | C7: =IF($H$1="DDE",VLOOKUP(A7,'DDE Live Data'!$A$2:$D$29,3,FALSE),"") -> 0.68541 | D7: =IF($H$1="DDE",VLOOKUP(A7,'DDE Live Data'!$A$2:$D$29,4,FALSE),"") -> 0.68543 | E7: =IF(ISNUMBER(SEARCH("JPY",A7)),((D7-C7)*100),((D7-C7)*10000)) -> 0.2 | F7: =IF(ISNUMBER(SEARCH("JPY",A7)),((D7-C7)),((D7-C7))) -> 2e-05 | G7: =AVERAGE(C7:D7) -> 0.68542 | H7: =IF($H$1="DDE",VLOOKUP(A7,'DDE Live Data'!$A$2:$F$29,5,FALSE),"") -> 0.67749 | I7: =IF($H$1="DDE",VLOOKUP(A7,'DDE Live Data'!$A$2:$F$29,6,FALSE),"") -> 0.68693 | J7: =NOW() -> 43984.781
A8: CADCHF | B8: =IF($H$1="DDE",VLOOKUP(A8,'DDE Live Data'!$A$2:$D$29,2,FALSE),VLOOKUP(A8,#REF!,2,FALSE)) -> 2020 | C8: =IF($H$1="DDE",VLOOKUP(A8,'DDE Live Data'!$A$2:$D$29,3,FALSE),"") -> 0.7115 | D8: =IF($H$1="DDE",VLOOKUP(A8,'DDE Live Data'!$A$2:$D$29,4,FALSE),"") -> 0.71152 | E8: =IF(ISNUMBER(SEARCH("JPY",A8)),((D8-C8)*100),((D8-C8)*10000)) -> 0.2 | F8: =IF(ISNUMBER(SEARCH("JPY",A8)),((D8-C8)),((D8-C8))) -> 2e-05 | G8: =AVERAGE(C8:D8) -> 0.71151 | H8: =IF($H$1="DDE",VLOOKUP(A8,'DDE Live Data'!$A$2:$F$29,5,FALSE),"") -> 0.70685 | I8: =IF($H$1="DDE",VLOOKUP(A8,'DDE Live Data'!$A$2:$F$29,6,FALSE),"") -> 0.71286 | J8: =NOW() -> 43984.781
A9: CADJPY | B9: =IF($H$1="DDE",VLOOKUP(A9,'DDE Live Data'!$A$2:$D$29,2,FALSE),VLOOKUP(A9,#REF!,2,FALSE)) -> 2020 | C9: =IF($H$1="DDE",VLOOKUP(A9,'DDE Live Data'!$A$2:$D$29,3,FALSE),"") -> 79.717 | D9: =IF($H$1="DDE",VLOOKUP(A9,'DDE Live Data'!$A$2:$D$29,4,FALSE),"") -> 79.719 | E9: =IF(ISNUMBER(SEARCH("JPY",A9)),((D9-C9)*100),((D9-C9)*10000)) -> 0.2 | F9: =IF(ISNUMBER(SEARCH("JPY",A9)),((D9-C9)),((D9-C9))) -> 0.002 | G9: =AVERAGE(C9:D9) -> 79.718 | H9: =IF($H$1="DDE",VLOOKUP(A9,'DDE Live Data'!$A$2:$F$29,5,FALSE),"") -> 79.154 | I9: =IF($H$1="DDE",VLOOKUP(A9,'DDE Live Data'!$A$2:$F$29,6,FALSE),"") -> 79.857 | J9: =NOW() -> 43984.781
A10: CHFJPY | B10: =IF($H$1="DDE",VLOOKUP(A10,'DDE Live Data'!$A$2:$D$29,2,FALSE),VLOOKUP(A10,#REF!,2,FALSE)) -> 2020 | C10: =IF($H$1="DDE",VLOOKUP(A10,'DDE Live Data'!$A$2:$D$29,3,FALSE),"") -> 112.04 | D10: =IF($H$1="DDE",VLOOKUP(A10,'DDE Live Data'!$A$2:$D$29,4,FALSE),"") -> 112.046 | E10: =IF(ISNUMBER(SEARCH("JPY",A10)),((D10-C10)*100),((D10-C10)*10000)) -> 0.6 | F10: =IF(ISNUMBER(SEARCH("JPY",A10)),((D10-C10)),((D10-C10))) -> 0.006 | G10: =AVERAGE(C10:D10) -> 112.043 | H10: =IF($H$1="DDE",VLOOKUP(A10,'DDE Live Data'!$A$2:$F$29,5,FALSE),"") -> 111.818 | I10: =IF($H$1="DDE",VLOOKUP(A10,'DDE Live Data'!$A$2:$F$29,6,FALSE),"") -> 112.544 | J10: =NOW() -> 43984.781
A11: EURAUD | B11: =IF($H$1="DDE",VLOOKUP(A11,'DDE Live Data'!$A$2:$D$29,2,FALSE),VLOOKUP(A11,#REF!,2,FALSE)) -> 2020 | C11: =IF($H$1="DDE",VLOOKUP(A11,'DDE Live Data'!$A$2:$D$29,3,FALSE),"") -> 1.62944 | D11: =IF($H$1="DDE",VLOOKUP(A11,'DDE Live Data'!$A$2:$D$29,4,FALSE),"") -> 1.62949 | E11: =IF(ISNUMBER(SEARCH("JPY",A11)),((D11-C11)*100),((D11-C11)*10000)) -> 0.5 | F11: =IF(ISNUMBER(SEARCH("JPY",A11)),((D11-C11)),((D11-C11))) -> 5e-05 | G11: =AVERAGE(C11:D11) -> 1.629465 | H11: =IF($H$1="DDE",VLOOKUP(A11,'DDE Live Data'!$A$2:$F$29,5,FALSE),"") -> 1.62811 | I11: =IF($H$1="DDE",VLOOKUP(A11,'DDE Live Data'!$A$2:$F$29,6,FALSE),"") -> 1.64165 | J11: =NOW() -> 43984.781
A12: EURCAD | B12: =IF($H$1="DDE",VLOOKUP(A12,'DDE Live Data'!$A$2:$D$29,2,FALSE),VLOOKUP(A12,#REF!,2,FALSE)) -> 2020 | C12: =IF($H$1="DDE",VLOOKUP(A12,'DDE Live Data'!$A$2:$D$29,3,FALSE),"") -> 1.50963 | D12: =IF($H$1="DDE",VLOOKUP(A12,'DDE Live Data'!$A$2:$D$29,4,FALSE),"") -> 1.50971 | E12: =IF(ISNUMBER(SEARCH("JPY",A12)),((D12-C12)*100),((D12-C12)*10000)) -> 0.8 | F12: =IF(ISNUMBER(SEARCH("JPY",A12)),((D12-C12)),((D12-C12))) -> 8e-05 | G12: =AVERAGE(C12:D12) -> 1.50967 | H12: =IF($H$1="DDE",VLOOKUP(A12,'DDE Live Data'!$A$2:$F$29,5,FALSE),"") -> 1.50547 | I12: =IF($H$1="DDE",VLOOKUP(A12,'DDE Live Data'!$A$2:$F$29,6,FALSE),"") -> 1.5116 | J12: =NOW() -> 43984.781
A13: EURCHF | B13: =IF($H$1="DDE",VLOOKUP(A13,'DDE Live Data'!$A$2:$D$29,2,FALSE),VLOOKUP(A13,#REF!,2,FALSE)) -> 2020 | C13: =IF($H$1="DDE",VLOOKUP(A13,'DDE Live Data'!$A$2:$D$29,3,FALSE),"") -> 1.07411 | D13: =IF($H$1="DDE",VLOOKUP(A13,'DDE Live Data'!$A$2:$D$29,4,FALSE),"") -> 1.07414 | E13: =IF(ISNUMBER(SEARCH("JPY",A13)),((D13-C13)*100),((D13-C13)*10000)) -> 0.3 | F13: =IF(ISNUMBER(SEARCH("JPY",A13)),((D13-C13)),((D13-C13))) -> 3e-05 | G13: =AVERAGE(C13:D13) -> 1.074125 | H13: =IF($H$1="DDE",VLOOKUP(A13,'DDE Live Data'!$A$2:$F$29,5,FALSE),"") -> 1.06856 | I13: =IF($H$1="DDE",VLOOKUP(A13,'DDE Live Data'!$A$2:$F$29,6,FALSE),"") -> 1.0763 | J13: =NOW() -> 43984.781
A14: EURGBP | B14: =IF($H$1="DDE",VLOOKUP(A14,'DDE Live Data'!$A$2:$D$29,2,FALSE),VLOOKUP(A14,#REF!,2,FALSE)) -> 2020 | C14: =IF($H$1="DDE",VLOOKUP(A14,'DDE Live Data'!$A$2:$D$29,3,FALSE),"") -> 0.88884 | D14: =IF($H$1="DDE",VLOOKUP(A14,'DDE Live Data'!$A$2:$D$29,4,FALSE),"") -> 0.88886 | E14: =IF(ISNUMBER(SEARCH("JPY",A14)),((D14-C14)*100),((D14-C14)*10000)) -> 0.2 | F14: =IF(ISNUMBER(SEARCH("JPY",A14)),((D14-C14)),((D14-C14))) -> 2e-05 | G14: =AVERAGE(C14:D14) -> 0.88885 | H14: =IF($H$1="DDE",VLOOKUP(A14,'DDE Live Data'!$A$2:$F$29,5,FALSE),"") -> 0.88666 | I14: =IF($H$1="DDE",VLOOKUP(A14,'DDE Live Data'!$A$2:$F$29,6,FALSE),"") -> 0.89166 | J14: =NOW() -> 43984.781
... A30: USDJPY | B30: =IF($H$1="DDE",VLOOKUP(A30,'DDE Live Data'!$A$2:$D$29,2,FALSE),VLOOKUP(A30,#REF!,2,FALSE)) -> 2020 | C30: =IF($H$1="DDE",VLOOKUP(A30,'DDE Live Data'!$A$2:$D$29,3,FALSE),"") -> 107.756 | D30: =IF($H$1="DDE",VLOOKUP(A30,'DDE Live Data'!$A$2:$D$29,4,FALSE),"") -> 107.756 | E30: =IF(ISNUMBER(SEARCH("JPY",A30)),((D30-C30)*100),((D30-C30)*10000)) -> 0 | F30: =IF(ISNUMBER(SEARCH("JPY",A30)),((D30-C30)),((D30-C30))) -> 0 | G30: =AVERAGE(C30:D30) -> 107.756 | H30: =IF($H$1="DDE",VLOOKUP(A30,'DDE Live Data'!$A$2:$F$29,5,FALSE),"") -> 107.514 | I30: =IF($H$1="DDE",VLOOKUP(A30,'DDE Live Data'!$A$2:$F$29,6,FALSE),"") -> 107.836 | J30: =NOW() -> 43984.781

Sheet Pip Values
A1: Symbol | B1: Left | C1: Right | D1: Trade Size | E1: Factor | F1: Factor | G1: Is USD? | H1: 1st USD | I1: 2nd USD | J1: Bid Price | K1: Ask Price | L1: Pip Value | M1: USD 2nd Pair | N1: USD 1st Pair | O1: Neither USD
A2: AUDCAD | B2: =LEFT(A2,3) -> AUD | C2: =RIGHT(A2,3) -> CAD | D2: 100000 | E2: =IF(F2=FALSE,0.0001,0.01) -> 0.0001 | F2: =ISNUMBER(SEARCH("JPY",A2)) -> FALSE | G2: =ISNUMBER(SEARCH("USD",A2)) -> FALSE | H2: =IF(B2="USD","TRUE","FALSE") -> FALSE | I2: =IF(C2="USD","TRUE","FALSE") -> FALSE | J2: =VLOOKUP(A2,'Data Feed'!$A$3:$D$30,3,FALSE) -> 0.92646 | K2: =VLOOKUP(A2,'Data Feed'!$A$3:$D$30,4,FALSE) -> 0.9265 | L2: =IF(I2="TRUE",D2*E2,(IF(H2="TRUE",(D2*E2)/K2,(IF(G2=FALSE,R2,""))))) -> 7.3982008 | M2: =IF(I2="TRUE",D2*E2,"") | N2: =IF(H2="TRUE",(D2*E2)/K2,"") | O2: =IF(G2=FALSE,IFERROR(VLOOKUP(C2&"USD",$A$2:$A$29,1,FALSE),"USD"&C2),"") -> USDCAD | P2: =IF(O2="","",(IF(LEFT(O2,3)="USD",VLOOKUP(O2,$A$2:$K$29,10,FALSE),VLOOKUP(O2,$A$2:$K$29,11,FALSE)))) -> 1.35168 | Q2: =IF(O2="","",(IF(LEFT(O2,3)="USD","ASK","BID"))) -> ASK | R2: =IF(Q2="ASK",(D2*E2/P2),(IF(Q2="BID",((D2*E2)*P2),""))) -> 7.3982008
A3: AUDCHF | B3: =LEFT(A3,3) -> AUD | C3: =RIGHT(A3,3) -> CHF | D3: 100000 | E3: =IF(F3=FALSE,0.0001,0.01) -> 0.0001 | F3: =ISNUMBER(SEARCH("JPY",A3)) -> FALSE | G3: =ISNUMBER(SEARCH("USD",A3)) -> FALSE | H3: =IF(B3="USD","TRUE","FALSE") -> FALSE | I3: =IF(C3="USD","TRUE","FALSE") -> FALSE | J3: =VLOOKUP(A3,'Data Feed'!$A$3:$D$30,3,FALSE) -> 0.65917 | K3: =VLOOKUP(A3,'Data Feed'!$A$3:$D$30,4,FALSE) -> 0.65921 | L3: =IF(I3="TRUE",D3*E3,(IF(H3="TRUE",(D3*E3)/K3,(IF(G3=FALSE,R3,""))))) -> 10.398145 | M3: =IF(I3="TRUE",D3*E3,"") | N3: =IF(H3="TRUE",(D3*E3)/K3,"") | O3: =IF(G3=FALSE,IFERROR(VLOOKUP(C3&"USD",$A$2:$A$29,1,FALSE),"USD"&C3),"") -> USDCHF | P3: =IF(O3="","",(IF(LEFT(O3,3)="USD",VLOOKUP(O3,$A$2:$K$29,10,FALSE),VLOOKUP(O3,$A$2:$K$29,11,FALSE)))) -> 0.96171 | Q3: =IF(O3="","",(IF(LEFT(O3,3)="USD","ASK","BID"))) -> ASK | R3: =IF(Q3="ASK",(D3*E3/P3),(IF(Q3="BID",((D3*E3)*P3),""))) -> 10.398145
A4: AUDJPY | B4: =LEFT(A4,3) -> AUD | C4: =RIGHT(A4,3) -> JPY | D4: 100000 | E4: =IF(F4=FALSE,0.0001,0.01) -> 0.01 | F4: =ISNUMBER(SEARCH("JPY",A4)) -> TRUE | G4: =ISNUMBER(SEARCH("USD",A4)) -> FALSE | H4: =IF(B4="USD","TRUE","FALSE") -> FALSE | I4: =IF(C4="USD","TRUE","FALSE") -> FALSE | J4: =VLOOKUP(A4,'Data Feed'!$A$3:$D$30,3,FALSE) -> 73.856 | K4: =VLOOKUP(A4,'Data Feed'!$A$3:$D$30,4,FALSE) -> 73.859 | L4: =IF(I4="TRUE",D4*E4,(IF(H4="TRUE",(D4*E4)/K4,(IF(G4=FALSE,R4,""))))) -> 9.2802257 | M4: =IF(I4="TRUE",D4*E4,"") | N4: =IF(H4="TRUE",(D4*E4)/K4,"") | O4: =IF(G4=FALSE,IFERROR(VLOOKUP(C4&"USD",$A$2:$A$29,1,FALSE),"USD"&C4),"") -> USDJPY | P4: =IF(O4="","",(IF(LEFT(O4,3)="USD",VLOOKUP(O4,$A$2:$K$29,10,FALSE),VLOOKUP(O4,$A$2:$K$29,11,FALSE)))) -> 107.756 | Q4: =IF(O4="","",(IF(LEFT(O4,3)="USD","ASK","BID"))) -> ASK | R4: =IF(Q4="ASK",(D4*E4/P4),(IF(Q4="BID",((D4*E4)*P4),""))) -> 9.2802257
A5: AUDNZD | B5: =LEFT(A5,3) -> AUD | C5: =RIGHT(A5,3) -> NZD | D5: 100000 | E5: =IF(F5=FALSE,0.0001,0.01) -> 0.0001 | F5: =ISNUMBER(SEARCH("JPY",A5)) -> FALSE | G5: =ISNUMBER(SEARCH("USD",A5)) -> FALSE | H5: =IF(B5="USD","TRUE","FALSE") -> FALSE | I5: =IF(C5="USD","TRUE","FALSE") -> FALSE | J5: =VLOOKUP(A5,'Data Feed'!$A$3:$D$30,3,FALSE) -> 1.08544 | K5: =VLOOKUP(A5,'Data Feed'!$A$3:$D$30,4,FALSE) -> 1.08551 | L5: =IF(I5="TRUE",D5*E5,(IF(H5="TRUE",(D5*E5)/K5,(IF(G5=FALSE,R5,""))))) -> 6.3143 | M5: =IF(I5="TRUE",D5*E5,"") | N5: =IF(H5="TRUE",(D5*E5)/K5,"") | O5: =IF(G5=FALSE,IFERROR(VLOOKUP(C5&"USD",$A$2:$A$29,1,FALSE),"USD"&C5),"") -> NZDUSD | P5: =IF(O5="","",(IF(LEFT(O5,3)="USD",VLOOKUP(O5,$A$2:$K$29,10,FALSE),VLOOKUP(O5,$A$2:$K$29,11,FALSE)))) -> 0.63143 | Q5: =IF(O5="","",(IF(LEFT(O5,3)="USD","ASK","BID"))) -> BID | R5: =IF(Q5="ASK",(D5*E5/P5),(IF(Q5="BID",((D5*E5)*P5),""))) -> 6.3143
A6: AUDUSD | B6: =LEFT(A6,3) -> AUD | C6: =RIGHT(A6,3) -> USD | D6: 100000 | E6: =IF(F6=FALSE,0.0001,0.01) -> 0.0001 | F6: =ISNUMBER(SEARCH("JPY",A6)) -> FALSE | G6: =ISNUMBER(SEARCH("USD",A6)) -> TRUE | H6: =IF(B6="USD","TRUE","FALSE") -> FALSE | I6: =IF(C6="USD","TRUE","FALSE") -> TRUE | J6: =VLOOKUP(A6,'Data Feed'!$A$3:$D$30,3,FALSE) -> 0.68541 | K6: =VLOOKUP(A6,'Data Feed'!$A$3:$D$30,4,FALSE) -> 0.68543 | L6: =IF(I6="TRUE",D6*E6,(IF(H6="TRUE",(D6*E6)/K6,(IF(G6=FALSE,R6,""))))) -> 10 | M6: =IF(I6="TRUE",D6*E6,"") -> 10 | N6: =IF(H6="TRUE",(D6*E6)/K6,"") | O6: =IF(G6=FALSE,IFERROR(VLOOKUP(C6&"USD",$A$2:$A$29,1,FALSE),"USD"&C6),"") | P6: =IF(O6="","",(IF(LEFT(O6,3)="USD",VLOOKUP(O6,$A$2:$K$29,10,FALSE),VLOOKUP(O6,$A$2:$K$29,11,FALSE)))) | Q6: =IF(O6="","",(IF(LEFT(O6,3)="USD","ASK","BID"))) | R6: =IF(Q6="ASK",(D6*E6/P6),(IF(Q6="BID",((D6*E6)*P6),"")))
A7: CADCHF | B7: =LEFT(A7,3) -> CAD | C7: =RIGHT(A7,3) -> CHF | D7: 100000 | E7: =IF(F7=FALSE,0.0001,0.01) -> 0.0001 | F7: =ISNUMBER(SEARCH("JPY",A7)) -> FALSE | G7: =ISNUMBER(SEARCH("USD",A7)) -> FALSE | H7: =IF(B7="USD","TRUE","FALSE") -> FALSE | I7: =IF(C7="USD","TRUE","FALSE") -> FALSE | J7: =VLOOKUP(A7,'Data Feed'!$A$3:$D$30,3,FALSE) -> 0.7115 | K7: =VLOOKUP(A7,'Data Feed'!$A$3:$D$30,4,FALSE) -> 0.71152 | L7: =IF(I7="TRUE",D7*E7,(IF(H7="TRUE",(D7*E7)/K7,(IF(G7=FALSE,R7,""))))) -> 10.398145 | M7: =IF(I7="TRUE",D7*E7,"") | N7: =IF(H7="TRUE",(D7*E7)/K7,"") | O7: =IF(G7=FALSE,IFERROR(VLOOKUP(C7&"USD",$A$2:$A$29,1,FALSE),"USD"&C7),"") -> USDCHF | P7: =IF(O7="","",(IF(LEFT(O7,3)="USD",VLOOKUP(O7,$A$2:$K$29,10,FALSE),VLOOKUP(O7,$A$2:$K$29,11,FALSE)))) -> 0.96171 | Q7: =IF(O7="","",(IF(LEFT(O7,3)="USD","ASK","BID"))) -> ASK | R7: =IF(Q7="ASK",(D7*E7/P7),(IF(Q7="BID",((D7*E7)*P7),""))) -> 10.398145
A8: CADJPY | B8: =LEFT(A8,3) -> CAD | C8: =RIGHT(A8,3) -> JPY | D8: 100000 | E8: =IF(F8=FALSE,0.0001,0.01) -> 0.01 | F8: =ISNUMBER(SEARCH("JPY",A8)) -> TRUE | G8: =ISNUMBER(SEARCH("USD",A8)) -> FALSE | H8: =IF(B8="USD","TRUE","FALSE") -> FALSE | I8: =IF(C8="USD","TRUE","FALSE") -> FALSE | J8: =VLOOKUP(A8,'Data Feed'!$A$3:$D$30,3,FALSE) -> 79.717 | K8: =VLOOKUP(A8,'Data Feed'!$A$3:$D$30,4,FALSE) -> 79.719 | L8: =IF(I8="TRUE",D8*E8,(IF(H8="TRUE",(D8*E8)/K8,(IF(G8=FALSE,R8,""))))) -> 9.2802257 | M8: =IF(I8="TRUE",D8*E8,"") | N8: =IF(H8="TRUE",(D8*E8)/K8,"") | O8: =IF(G8=FALSE,IFERROR(VLOOKUP(C8&"USD",$A$2:$A$29,1,FALSE),"USD"&C8),"") -> USDJPY | P8: =IF(O8="","",(IF(LEFT(O8,3)="USD",VLOOKUP(O8,$A$2:$K$29,10,FALSE),VLOOKUP(O8,$A$2:$K$29,11,FALSE)))) -> 107.756 | Q8: =IF(O8="","",(IF(LEFT(O8,3)="USD","ASK","BID"))) -> ASK | R8: =IF(Q8="ASK",(D8*E8/P8),(IF(Q8="BID",((D8*E8)*P8),""))) -> 9.2802257
A9: CHFJPY | B9: =LEFT(A9,3) -> CHF | C9: =RIGHT(A9,3) -> JPY | D9: 100000 | E9: =IF(F9=FALSE,0.0001,0.01) -> 0.01 | F9: =ISNUMBER(SEARCH("JPY",A9)) -> TRUE | G9: =ISNUMBER(SEARCH("USD",A9)) -> FALSE | H9: =IF(B9="USD","TRUE","FALSE") -> FALSE | I9: =IF(C9="USD","TRUE","FALSE") -> FALSE | J9: =VLOOKUP(A9,'Data Feed'!$A$3:$D$30,3,FALSE) -> 112.04 | K9: =VLOOKUP(A9,'Data Feed'!$A$3:$D$30,4,FALSE) -> 112.046 | L9: =IF(I9="TRUE",D9*E9,(IF(H9="TRUE",(D9*E9)/K9,(IF(G9=FALSE,R9,""))))) -> 9.2802257 | M9: =IF(I9="TRUE",D9*E9,"") | N9: =IF(H9="TRUE",(D9*E9)/K9,"") | O9: =IF(G9=FALSE,IFERROR(VLOOKUP(C9&"USD",$A$2:$A$29,1,FALSE),"USD"&C9),"") -> USDJPY | P9: =IF(O9="","",(IF(LEFT(O9,3)="USD",VLOOKUP(O9,$A$2:$K$29,10,FALSE),VLOOKUP(O9,$A$2:$K$29,11,FALSE)))) -> 107.756 | Q9: =IF(O9="","",(IF(LEFT(O9,3)="USD","ASK","BID"))) -> ASK | R9: =IF(Q9="ASK",(D9*E9/P9),(IF(Q9="BID",((D9*E9)*P9),""))) -> 9.2802257
A10: EURAUD | B10: =LEFT(A10,3) -> EUR | C10: =RIGHT(A10,3) -> AUD | D10: 100000 | E10: =IF(F10=FALSE,0.0001,0.01) -> 0.0001 | F10: =ISNUMBER(SEARCH("JPY",A10)) -> FALSE | G10: =ISNUMBER(SEARCH("USD",A10)) -> FALSE | H10: =IF(B10="USD","TRUE","FALSE") -> FALSE | I10: =IF(C10="USD","TRUE","FALSE") -> FALSE | J10: =VLOOKUP(A10,'Data Feed'!$A$3:$D$30,3,FALSE) -> 1.62944 | K10: =VLOOKUP(A10,'Data Feed'!$A$3:$D$30,4,FALSE) -> 1.62949 | L10: =IF(I10="TRUE",D10*E10,(IF(H10="TRUE",(D10*E10)/K10,(IF(G10=FALSE,R10,""))))) -> 6.8543 | M10: =IF(I10="TRUE",D10*E10,"") | N10: =IF(H10="TRUE",(D10*E10)/K10,"") | O10: =IF(G10=FALSE,IFERROR(VLOOKUP(C10&"USD",$A$2:$A$29,1,FALSE),"USD"&C10),"") -> AUDUSD | P10: =IF(O10="","",(IF(LEFT(O10,3)="USD",VLOOKUP(O10,$A$2:$K$29,10,FALSE),VLOOKUP(O10,$A$2:$K$29,11,FALSE)))) -> 0.68543 | Q10: =IF(O10="","",(IF(LEFT(O10,3)="USD","ASK","BID"))) -> BID | R10: =IF(Q10="ASK",(D10*E10/P10),(IF(Q10="BID",((D10*E10)*P10),""))) -> 6.8543
A11: EURCAD | B11: =LEFT(A11,3) -> EUR | C11: =RIGHT(A11,3) -> CAD | D11: 100000 | E11: =IF(F11=FALSE,0.0001,0.01) -> 0.0001 | F11: =ISNUMBER(SEARCH("JPY",A11)) -> FALSE | G11: =ISNUMBER(SEARCH("USD",A11)) -> FALSE | H11: =IF(B11="USD","TRUE","FALSE") -> FALSE | I11: =IF(C11="USD","TRUE","FALSE") -> FALSE | J11: =VLOOKUP(A11,'Data Feed'!$A$3:$D$30,3,FALSE) -> 1.50963 | K11: =VLOOKUP(A11,'Data Feed'!$A$3:$D$30,4,FALSE) -> 1.50971 | L11: =IF(I11="TRUE",D11*E11,(IF(H11="TRUE",(D11*E11)/K11,(IF(G11=FALSE,R11,""))))) -> 7.3982008 | M11: =IF(I11="TRUE",D11*E11,"") | N11: =IF(H11="TRUE",(D11*E11)/K11,"") | O11: =IF(G11=FALSE,IFERROR(VLOOKUP(C11&"USD",$A$2:$A$29,1,FALSE),"USD"&C11),"") -> USDCAD | P11: =IF(O11="","",(IF(LEFT(O11,3)="USD",VLOOKUP(O11,$A$2:$K$29,10,FALSE),VLOOKUP(O11,$A$2:$K$29,11,FALSE)))) -> 1.35168 | Q11: =IF(O11="","",(IF(LEFT(O11,3)="USD","ASK","BID"))) -> ASK | R11: =IF(Q11="ASK",(D11*E11/P11),(IF(Q11="BID",((D11*E11)*P11),""))) -> 7.3982008
A12: EURCHF | B12: =LEFT(A12,3) -> EUR | C12: =RIGHT(A12,3) -> CHF | D12: 100000 | E12: =IF(F12=FALSE,0.0001,0.01) -> 0.0001 | F12: =ISNUMBER(SEARCH("JPY",A12)) -> FALSE | G12: =ISNUMBER(SEARCH("USD",A12)) -> FALSE | H12: =IF(B12="USD","TRUE","FALSE") -> FALSE | I12: =IF(C12="USD","TRUE","FALSE") -> FALSE | J12: =VLOOKUP(A12,'Data Feed'!$A$3:$D$30,3,FALSE) -> 1.07411 | K12: =VLOOKUP(A12,'Data Feed'!$A$3:$D$30,4,FALSE) -> 1.07414 | L12: =IF(I12="TRUE",D12*E12,(IF(H12="TRUE",(D12*E12)/K12,(IF(G12=FALSE,R12,""))))) -> 10.398145 | M12: =IF(I12="TRUE",D12*E12,"") | N12: =IF(H12="TRUE",(D12*E12)/K12,"") | O12: =IF(G12=FALSE,IFERROR(VLOOKUP(C12&"USD",$A$2:$A$29,1,FALSE),"USD"&C12),"") -> USDCHF | P12: =IF(O12="","",(IF(LEFT(O12,3)="USD",VLOOKUP(O12,$A$2:$K$29,10,FALSE),VLOOKUP(O12,$A$2:$K$29,11,FALSE)))) -> 0.96171 | Q12: =IF(O12="","",(IF(LEFT(O12,3)="USD","ASK","BID"))) -> ASK | R12: =IF(Q12="ASK",(D12*E12/P12),(IF(Q12="BID",((D12*E12)*P12),""))) -> 10.398145
A13: EURGBP | B13: =LEFT(A13,3) -> EUR | C13: =RIGHT(A13,3) -> GBP | D13: 100000 | E13: =IF(F13=FALSE,0.0001,0.01) -> 0.0001 | F13: =ISNUMBER(SEARCH("JPY",A13)) -> FALSE | G13: =ISNUMBER(SEARCH("USD",A13)) -> FALSE | H13: =IF(B13="USD","TRUE","FALSE") -> FALSE | I13: =IF(C13="USD","TRUE","FALSE") -> FALSE | J13: =VLOOKUP(A13,'Data Feed'!$A$3:$D$30,3,FALSE) -> 0.88884 | K13: =VLOOKUP(A13,'Data Feed'!$A$3:$D$30,4,FALSE) -> 0.88886 | L13: =IF(I13="TRUE",D13*E13,(IF(H13="TRUE",(D13*E13)/K13,(IF(G13=FALSE,R13,""))))) -> 12.5656 | M13: =IF(I13="TRUE",D13*E13,"") | N13: =IF(H13="TRUE",(D13*E13)/K13,"") | O13: =IF(G13=FALSE,IFERROR(VLOOKUP(C13&"USD",$A$2:$A$29,1,FALSE),"USD"&C13),"") -> GBPUSD | P13: =IF(O13="","",(IF(LEFT(O13,3)="USD",VLOOKUP(O13,$A$2:$K$29,10,FALSE),VLOOKUP(O13,$A$2:$K$29,11,FALSE)))) -> 1.25656 | Q13: =IF(O13="","",(IF(LEFT(O13,3)="USD","ASK","BID"))) -> BID | R13: =IF(Q13="ASK",(D13*E13/P13),(IF(Q13="BID",((D13*E13)*P13),""))) -> 12.5656
... A29: USDJPY | B29: =LEFT(A29,3) -> USD | C29: =RIGHT(A29,3) -> JPY | D29: 100000 | E29: =IF(F29=FALSE,0.0001,0.01) -> 0.01 | F29: =ISNUMBER(SEARCH("JPY",A29)) -> TRUE | G29: =ISNUMBER(SEARCH("USD",A29)) -> TRUE | H29: =IF(B29="USD","TRUE","FALSE") -> TRUE | I29: =IF(C29="USD","TRUE","FALSE") -> FALSE | J29: =VLOOKUP(A29,'Data Feed'!$A$3:$D$30,3,FALSE) -> 107.756 | K29: =VLOOKUP(A29,'Data Feed'!$A$3:$D$30,4,FALSE) -> 107.756 | L29: =IF(I29="TRUE",D29*E29,(IF(H29="TRUE",(D29*E29)/K29,(IF(G29=FALSE,R29,""))))) -> 9.2802257 | M29: =IF(I29="TRUE",D29*E29,"") | N29: =IF(H29="TRUE",(D29*E29)/K29,"") -> 9.2802257 | O29: =IF(G29=FALSE,IFERROR(VLOOKUP(C29&"USD",$A$2:$A$29,1,FALSE),"USD"&C29),"") | P29: =IF(O29="","",(IF(LEFT(O29,3)="USD",VLOOKUP(O29,$A$2:$K$29,10,FALSE),VLOOKUP(O29,$A$2:$K$29,11,FALSE)))) | Q29: =IF(O29="","",(IF(LEFT(O29,3)="USD","ASK","BID"))) | R29: =IF(Q29="ASK",(D29*E29/P29),(IF(Q29="BID",((D29*E29)*P29),"")))
A31: don’t make any changes to the values

Sheet Margin Requirement
A1: Symbol | B1: Left | C1: Right | D1: Trade Size | E1: Factor | F1: Factor | G1: Is USD? | H1: 1st USD | I1: 2nd USD | J1: Bid Price | K1: Ask Price | L1: Pip Value | M1: USD 2nd Pair | N1: USD 1st Pair | O1: Neither USD | S1: Divisor | T1: Leverage | U1: Units | V1: Margin Required
A2: AUDUSD | B2: =LEFT(A2,3) -> AUD | C2: =RIGHT(A2,3) -> USD | D2: 100000 | E2: =IF(F2=FALSE,0.0001,0.01) -> 0.0001 | F2: =ISNUMBER(SEARCH("JPY",A2)) -> FALSE | G2: =ISNUMBER(SEARCH("USD",A2)) -> TRUE | H2: =IF(B2="USD","TRUE","FALSE") -> FALSE | I2: =IF(C2="USD","TRUE","FALSE") -> TRUE | J2: =VLOOKUP(A2,'Data Feed'!$A$3:$E$30,3,FALSE) -> 0.68541 | K2: =VLOOKUP(A2,'Data Feed'!$A$3:$E$30,4,FALSE) -> 0.68543 | L2: =IF(I2="TRUE",D2*E2,(IF(H2="TRUE",(D2*E2)/K2,(IF(G2=FALSE,R2,""))))) -> 10 | M2: =IF(I2="TRUE",D2*E2,"") -> 10 | N2: =IF(H2="TRUE",(D2*E2)/K2,"") | O2: =IF(G2=FALSE,IFERROR(VLOOKUP(C2&"USD",$A$2:$A$29,1,FALSE),"USD"&C2),"") | P2: =IF(O2="","",(IF(LEFT(O2,3)="USD",VLOOKUP(O2,$A$2:$K$29,10,FALSE),VLOOKUP(O2,$A$2:$K$29,11,FALSE)))) | Q2: =IF(O2="","",(IF(LEFT(O2,3)="USD","ASK","BID"))) | R2: =IF(Q2="ASK",(D2*E2/P2),(IF(Q2="BID",((D2*E2)*P2),""))) | S2: =(D2*E2)/10 -> 1 | T2: =$Y$3 -> 100 | U2: =$Y$2*100000 -> 10000 | V2: =(J2*(U2/S2))/T2 -> 68.541 | X2: Enter Lot Size | Y2: 0.1
A3: EURUSD | B3: =LEFT(A3,3) -> EUR | C3: =RIGHT(A3,3) -> USD | D3: 100000 | E3: =IF(F3=FALSE,0.0001,0.01) -> 0.0001 | F3: =ISNUMBER(SEARCH("JPY",A3)) -> FALSE | G3: =ISNUMBER(SEARCH("USD",A3)) -> TRUE | H3: =IF(B3="USD","TRUE","FALSE") -> FALSE | I3: =IF(C3="USD","TRUE","FALSE") -> TRUE | J3: =VLOOKUP(A3,'Data Feed'!$A$3:$E$30,3,FALSE) -> 1.11686 | K3: =VLOOKUP(A3,'Data Feed'!$A$3:$E$30,4,FALSE) -> 1.11686 | L3: =IF(I3="TRUE",D3*E3,(IF(H3="TRUE",(D3*E3)/K3,(IF(G3=FALSE,R3,""))))) -> 10 | M3: =IF(I3="TRUE",D3*E3,"") -> 10 | N3: =IF(H3="TRUE",(D3*E3)/K3,"") | O3: =IF(G3=FALSE,IFERROR(VLOOKUP(C3&"USD",$A$2:$A$29,1,FALSE),"USD"&C3),"") | P3: =IF(O3="","",(IF(LEFT(O3,3)="USD",VLOOKUP(O3,$A$2:$K$29,10,FALSE),VLOOKUP(O3,$A$2:$K$29,11,FALSE)))) | Q3: =IF(O3="","",(IF(LEFT(O3,3)="USD","ASK","BID"))) | R3: =IF(Q3="ASK",(D3*E3/P3),(IF(Q3="BID",((D3*E3)*P3),""))) | S3: =(D3*E3)/10 -> 1 | T3: =$Y$3 -> 100 | U3: =$Y$2*100000 -> 10000 | V3: =(J3*(U3/S3))/T3 -> 111.686 | X3: Enter A/C Leverage | Y3: 100
A4: GBPUSD | B4: =LEFT(A4,3) -> GBP | C4: =RIGHT(A4,3) -> USD | D4: 100000 | E4: =IF(F4=FALSE,0.0001,0.01) -> 0.0001 | F4: =ISNUMBER(SEARCH("JPY",A4)) -> FALSE | G4: =ISNUMBER(SEARCH("USD",A4)) -> TRUE | H4: =IF(B4="USD","TRUE","FALSE") -> FALSE | I4: =IF(C4="USD","TRUE","FALSE") -> TRUE | J4: =VLOOKUP(A4,'Data Feed'!$A$3:$E$30,3,FALSE) -> 1.25656 | K4: =VLOOKUP(A4,'Data Feed'!$A$3:$E$30,4,FALSE) -> 1.25656 | L4: =IF(I4="TRUE",D4*E4,(IF(H4="TRUE",(D4*E4)/K4,(IF(G4=FALSE,R4,""))))) -> 10 | M4: =IF(I4="TRUE",D4*E4,"") -> 10 | N4: =IF(H4="TRUE",(D4*E4)/K4,"") | O4: =IF(G4=FALSE,IFERROR(VLOOKUP(C4&"USD",$A$2:$A$29,1,FALSE),"USD"&C4),"") | P4: =IF(O4="","",(IF(LEFT(O4,3)="USD",VLOOKUP(O4,$A$2:$K$29,10,FALSE),VLOOKUP(O4,$A$2:$K$29,11,FALSE)))) | Q4: =IF(O4="","",(IF(LEFT(O4,3)="USD","ASK","BID"))) | R4: =IF(Q4="ASK",(D4*E4/P4),(IF(Q4="BID",((D4*E4)*P4),""))) | S4: =(D4*E4)/10 -> 1 | T4: =$Y$3 -> 100 | U4: =$Y$2*100000 -> 10000 | V4: =(J4*(U4/S4))/T4 -> 125.656
A5: NZDUSD | B5: =LEFT(A5,3) -> NZD | C5: =RIGHT(A5,3) -> USD | D5: 100000 | E5: =IF(F5=FALSE,0.0001,0.01) -> 0.0001 | F5: =ISNUMBER(SEARCH("JPY",A5)) -> FALSE | G5: =ISNUMBER(SEARCH("USD",A5)) -> TRUE | H5: =IF(B5="USD","TRUE","FALSE") -> FALSE | I5: =IF(C5="USD","TRUE","FALSE") -> TRUE | J5: =VLOOKUP(A5,'Data Feed'!$A$3:$E$30,3,FALSE) -> 0.63142 | K5: =VLOOKUP(A5,'Data Feed'!$A$3:$E$30,4,FALSE) -> 0.63143 | L5: =IF(I5="TRUE",D5*E5,(IF(H5="TRUE",(D5*E5)/K5,(IF(G5=FALSE,R5,""))))) -> 10 | M5: =IF(I5="TRUE",D5*E5,"") -> 10 | N5: =IF(H5="TRUE",(D5*E5)/K5,"") | O5: =IF(G5=FALSE,IFERROR(VLOOKUP(C5&"USD",$A$2:$A$29,1,FALSE),"USD"&C5),"") | P5: =IF(O5="","",(IF(LEFT(O5,3)="USD",VLOOKUP(O5,$A$2:$K$29,10,FALSE),VLOOKUP(O5,$A$2:$K$29,11,FALSE)))) | Q5: =IF(O5="","",(IF(LEFT(O5,3)="USD","ASK","BID"))) | R5: =IF(Q5="ASK",(D5*E5/P5),(IF(Q5="BID",((D5*E5)*P5),""))) | S5: =(D5*E5)/10 -> 1 | T5: =$Y$3 -> 100 | U5: =$Y$2*100000 -> 10000 | V5: =(J5*(U5/S5))/T5 -> 63.142
A6: USDCAD | B6: =LEFT(A6,3) -> USD | C6: =RIGHT(A6,3) -> CAD | D6: 100000 | E6: =IF(F6=FALSE,0.0001,0.01) -> 0.0001 | F6: =ISNUMBER(SEARCH("JPY",A6)) -> FALSE | G6: =ISNUMBER(SEARCH("USD",A6)) -> TRUE | H6: =IF(B6="USD","TRUE","FALSE") -> TRUE | I6: =IF(C6="USD","TRUE","FALSE") -> FALSE | J6: =VLOOKUP(A6,'Data Feed'!$A$3:$E$30,3,FALSE) -> 1.35168 | K6: =VLOOKUP(A6,'Data Feed'!$A$3:$E$30,4,FALSE) -> 1.35172 | L6: =IF(I6="TRUE",D6*E6,(IF(H6="TRUE",(D6*E6)/K6,(IF(G6=FALSE,R6,""))))) -> 7.3979818 | M6: =IF(I6="TRUE",D6*E6,"") | N6: =IF(H6="TRUE",(D6*E6)/K6,"") -> 7.3979818 | O6: =IF(G6=FALSE,IFERROR(VLOOKUP(C6&"USD",$A$2:$A$29,1,FALSE),"USD"&C6),"") | P6: =IF(O6="","",(IF(LEFT(O6,3)="USD",VLOOKUP(O6,$A$2:$K$29,10,FALSE),VLOOKUP(O6,$A$2:$K$29,11,FALSE)))) | Q6: =IF(O6="","",(IF(LEFT(O6,3)="USD","ASK","BID"))) | R6: =IF(Q6="ASK",(D6*E6/P6),(IF(Q6="BID",((D6*E6)*P6),""))) | S6: =(D6*E6)/10 -> 1 | T6: =$Y$3 -> 100 | U6: =$Y$2*100000 -> 10000 | V6: =(K6*(U6/S6))/T6 -> 135.172
A7: USDCHF | B7: =LEFT(A7,3) -> USD | C7: =RIGHT(A7,3) -> CHF | D7: 100000 | E7: =IF(F7=FALSE,0.0001,0.01) -> 0.0001 | F7: =ISNUMBER(SEARCH("JPY",A7)) -> FALSE | G7: =ISNUMBER(SEARCH("USD",A7)) -> TRUE | H7: =IF(B7="USD","TRUE","FALSE") -> TRUE | I7: =IF(C7="USD","TRUE","FALSE") -> FALSE | J7: =VLOOKUP(A7,'Data Feed'!$A$3:$E$30,3,FALSE) -> 0.96171 | K7: =VLOOKUP(A7,'Data Feed'!$A$3:$E$30,4,FALSE) -> 0.96173 | L7: =IF(I7="TRUE",D7*E7,(IF(H7="TRUE",(D7*E7)/K7,(IF(G7=FALSE,R7,""))))) -> 10.397929 | M7: =IF(I7="TRUE",D7*E7,"") | N7: =IF(H7="TRUE",(D7*E7)/K7,"") -> 10.397929 | O7: =IF(G7=FALSE,IFERROR(VLOOKUP(C7&"USD",$A$2:$A$29,1,FALSE),"USD"&C7),"") | P7: =IF(O7="","",(IF(LEFT(O7,3)="USD",VLOOKUP(O7,$A$2:$K$29,10,FALSE),VLOOKUP(O7,$A$2:$K$29,11,FALSE)))) | Q7: =IF(O7="","",(IF(LEFT(O7,3)="USD","ASK","BID"))) | R7: =IF(Q7="ASK",(D7*E7/P7),(IF(Q7="BID",((D7*E7)*P7),""))) | S7: =(D7*E7)/10 -> 1 | T7: =$Y$3 -> 100 | U7: =$Y$2*100000 -> 10000 | V7: =(K7*(U7/S7))/T7 -> 96.173
